BEGIN:VCALENDAR
VERSION:2.0
PRODID:-//St. Mary Catholic School - ECPv6.15.20//NONSGML v1.0//EN
CALSCALE:GREGORIAN
METHOD:PUBLISH
X-WR-CALNAME:St. Mary Catholic School
X-ORIGINAL-URL:https://stmarys.k12.oh.us
X-WR-CALDESC:Events for St. Mary Catholic School
REFRESH-INTERVAL;VALUE=DURATION:PT1H
X-Robots-Tag:noindex
X-PUBLISHED-TTL:PT1H
BEGIN:VTIMEZONE
TZID:America/New_York
BEGIN:DAYLIGHT
TZOFFSETFROM:-0500
TZOFFSETTO:-0400
TZNAME:EDT
DTSTART:20170312T070000
END:DAYLIGHT
BEGIN:STANDARD
TZOFFSETFROM:-0400
TZOFFSETTO:-0500
TZNAME:EST
DTSTART:20171105T060000
END:STANDARD
BEGIN:DAYLIGHT
TZOFFSETFROM:-0500
TZOFFSETTO:-0400
TZNAME:EDT
DTSTART:20180311T070000
END:DAYLIGHT
BEGIN:STANDARD
TZOFFSETFROM:-0400
TZOFFSETTO:-0500
TZNAME:EST
DTSTART:20181104T060000
END:STANDARD
BEGIN:DAYLIGHT
TZOFFSETFROM:-0500
TZOFFSETTO:-0400
TZNAME:EDT
DTSTART:20190310T070000
END:DAYLIGHT
BEGIN:STANDARD
TZOFFSETFROM:-0400
TZOFFSETTO:-0500
TZNAME:EST
DTSTART:20191103T060000
END:STANDARD
END:VTIMEZONE
BEGIN:VEVENT
DTSTART;VALUE=DATE:20181015
DTEND;VALUE=DATE:20181016
DTSTAMP:20260425T214118
CREATED:20181003T132228Z
LAST-MODIFIED:20181003T132228Z
UID:2776-1539561600-1539647999@stmarys.k12.oh.us
SUMMARY:School Picture Retakes
DESCRIPTION:
URL:https://stmarys.k12.oh.us/event/school-picture-retakes-2/
END:VEVENT
BEGIN:VEVENT
DTSTART;VALUE=DATE:20181015
DTEND;VALUE=DATE:20181016
DTSTAMP:20260425T214118
CREATED:20181003T132200Z
LAST-MODIFIED:20181003T132200Z
UID:2775-1539561600-1539647999@stmarys.k12.oh.us
SUMMARY:Confessions 6\, 7 & 8
DESCRIPTION:
URL:https://stmarys.k12.oh.us/event/confessions-6-7-8-2/
END:VEVENT
BEGIN:VEVENT
DTSTART;VALUE=DATE:20181014
DTEND;VALUE=DATE:20181015
DTSTAMP:20260425T214118
CREATED:20181003T132131Z
LAST-MODIFIED:20181003T132131Z
UID:2774-1539475200-1539561599@stmarys.k12.oh.us
SUMMARY:Diocesan Youth Conference @ Cambridge
DESCRIPTION:
URL:https://stmarys.k12.oh.us/event/diocesan-youth-conference-cambridge/
END:VEVENT
BEGIN:VEVENT
DTSTART;VALUE=DATE:20181013
DTEND;VALUE=DATE:20181014
DTSTAMP:20260425T214118
CREATED:20181003T132059Z
LAST-MODIFIED:20181003T132059Z
UID:2773-1539388800-1539475199@stmarys.k12.oh.us
SUMMARY:Youth League Basketball
DESCRIPTION:
URL:https://stmarys.k12.oh.us/event/youth-league-basketball-6/
END:VEVENT
BEGIN:VEVENT
DTSTART;TZID=America/New_York:20181011T080000
DTEND;TZID=America/New_York:20181011T080000
DTSTAMP:20260425T214118
CREATED:20181003T131959Z
LAST-MODIFIED:20181003T131959Z
UID:2772-1539244800-1539244800@stmarys.k12.oh.us
SUMMARY:Power of the Pen
DESCRIPTION:
URL:https://stmarys.k12.oh.us/event/power-of-the-pen-21/
END:VEVENT
BEGIN:VEVENT
DTSTART;TZID=America/New_York:20181010T180000
DTEND;TZID=America/New_York:20181010T180000
DTSTAMP:20260425T214118
CREATED:20181003T131926Z
LAST-MODIFIED:20181003T131926Z
UID:2771-1539194400-1539194400@stmarys.k12.oh.us
SUMMARY:LEAC
DESCRIPTION:
URL:https://stmarys.k12.oh.us/event/leac-7/
LOCATION:Parish Center
END:VEVENT
BEGIN:VEVENT
DTSTART;VALUE=DATE:20181010
DTEND;VALUE=DATE:20181011
DTSTAMP:20260425T214118
CREATED:20181003T131840Z
LAST-MODIFIED:20181003T131840Z
UID:2770-1539129600-1539215999@stmarys.k12.oh.us
SUMMARY:Microsoft Field Trip 8th Grade
DESCRIPTION:
URL:https://stmarys.k12.oh.us/event/microsoft-field-trip-8th-grade/
END:VEVENT
BEGIN:VEVENT
DTSTART;VALUE=DATE:20181010
DTEND;VALUE=DATE:20181011
DTSTAMP:20260425T214118
CREATED:20181003T131815Z
LAST-MODIFIED:20181003T131815Z
UID:2769-1539129600-1539215999@stmarys.k12.oh.us
SUMMARY:Fire Safety House K-3
DESCRIPTION:
URL:https://stmarys.k12.oh.us/event/fire-safety-house-k-3-2/
END:VEVENT
BEGIN:VEVENT
DTSTART;TZID=America/New_York:20181009T160000
DTEND;TZID=America/New_York:20181009T200000
DTSTAMP:20260425T214118
CREATED:20181003T131747Z
LAST-MODIFIED:20181003T131747Z
UID:2767-1539100800-1539115200@stmarys.k12.oh.us
SUMMARY:Parent/Student/Teacher Conferences
DESCRIPTION:
URL:https://stmarys.k12.oh.us/event/parent-student-teacher-conferences-2/
END:VEVENT
BEGIN:VEVENT
DTSTART;VALUE=DATE:20181009
DTEND;VALUE=DATE:20181010
DTSTAMP:20260425T214118
CREATED:20181003T131708Z
LAST-MODIFIED:20181003T131708Z
UID:2766-1539043200-1539129599@stmarys.k12.oh.us
SUMMARY:Rosary Congress 7th Grade
DESCRIPTION:
URL:https://stmarys.k12.oh.us/event/rosary-congress-7th-grade/
END:VEVENT
BEGIN:VEVENT
DTSTART;VALUE=DATE:20181009
DTEND;VALUE=DATE:20181010
DTSTAMP:20260425T214118
CREATED:20181003T131558Z
LAST-MODIFIED:20181003T131558Z
UID:2765-1539043200-1539129599@stmarys.k12.oh.us
SUMMARY:Student Council
DESCRIPTION:
URL:https://stmarys.k12.oh.us/event/student-council-8/
END:VEVENT
BEGIN:VEVENT
DTSTART;VALUE=DATE:20181006
DTEND;VALUE=DATE:20181007
DTSTAMP:20260425T214118
CREATED:20181003T131513Z
LAST-MODIFIED:20181003T131513Z
UID:2764-1538784000-1538870399@stmarys.k12.oh.us
SUMMARY:Youth League Basketball
DESCRIPTION:
URL:https://stmarys.k12.oh.us/event/youth-league-basketball-5/
END:VEVENT
BEGIN:VEVENT
DTSTART;VALUE=DATE:20181005
DTEND;VALUE=DATE:20181006
DTSTAMP:20260425T214118
CREATED:20181003T131443Z
LAST-MODIFIED:20181003T131443Z
UID:2763-1538697600-1538783999@stmarys.k12.oh.us
SUMMARY:Dress Down Day
DESCRIPTION:
URL:https://stmarys.k12.oh.us/event/dress-down-day-19/
END:VEVENT
BEGIN:VEVENT
DTSTART;TZID=America/New_York:20181004T193000
DTEND;TZID=America/New_York:20181004T193000
DTSTAMP:20260425T214118
CREATED:20181003T131413Z
LAST-MODIFIED:20181003T131413Z
UID:2762-1538681400-1538681400@stmarys.k12.oh.us
SUMMARY:Volleyball Tri-match vs St. Mary
DESCRIPTION:
URL:https://stmarys.k12.oh.us/event/volleyball-tri-match-vs-st-mary-2/
END:VEVENT
BEGIN:VEVENT
DTSTART;TZID=America/New_York:20181004T173000
DTEND;TZID=America/New_York:20181004T173000
DTSTAMP:20260425T214118
CREATED:20181003T131345Z
LAST-MODIFIED:20181003T131345Z
UID:2761-1538674200-1538674200@stmarys.k12.oh.us
SUMMARY:Volleyball Tri-match vs St. Mary
DESCRIPTION:
URL:https://stmarys.k12.oh.us/event/volleyball-tri-match-vs-st-mary/
END:VEVENT
BEGIN:VEVENT
DTSTART;TZID=America/New_York:20181004T160000
DTEND;TZID=America/New_York:20181004T200000
DTSTAMP:20260425T214118
CREATED:20181003T131304Z
LAST-MODIFIED:20181003T131304Z
UID:2760-1538668800-1538683200@stmarys.k12.oh.us
SUMMARY:Parent/Student/Teacher Conferences
DESCRIPTION:
URL:https://stmarys.k12.oh.us/event/parent-student-teacher-conferences/
END:VEVENT
BEGIN:VEVENT
DTSTART;TZID=America/New_York:20181004T110000
DTEND;TZID=America/New_York:20181004T110000
DTSTAMP:20260425T214118
CREATED:20181003T131230Z
LAST-MODIFIED:20181003T131230Z
UID:2759-1538650800-1538650800@stmarys.k12.oh.us
SUMMARY:Blessing of the Animals after Mass in Parking Lot
DESCRIPTION:
URL:https://stmarys.k12.oh.us/event/blessing-of-the-animals-after-mass-in-parking-lot/
END:VEVENT
BEGIN:VEVENT
DTSTART;TZID=America/New_York:20181004T110000
DTEND;TZID=America/New_York:20181004T110000
DTSTAMP:20260425T214118
CREATED:20181003T131137Z
LAST-MODIFIED:20181003T133903Z
UID:2758-1538650800-1538650800@stmarys.k12.oh.us
SUMMARY:All School Mass -Gym
DESCRIPTION:
URL:https://stmarys.k12.oh.us/event/all-school-mass-gym/
LOCATION:Gym
END:VEVENT
BEGIN:VEVENT
DTSTART;TZID=America/New_York:20181004T080000
DTEND;TZID=America/New_York:20181004T080000
DTSTAMP:20260425T214118
CREATED:20181003T131019Z
LAST-MODIFIED:20181003T131019Z
UID:2756-1538640000-1538640000@stmarys.k12.oh.us
SUMMARY:Power of the Pen
DESCRIPTION:
URL:https://stmarys.k12.oh.us/event/power-of-the-pen-20/
LOCATION:St. Mary Catholic School
END:VEVENT
BEGIN:VEVENT
DTSTART;VALUE=DATE:20181004
DTEND;VALUE=DATE:20181005
DTSTAMP:20260425T214118
CREATED:20181003T131102Z
LAST-MODIFIED:20181003T131102Z
UID:2757-1538611200-1538697599@stmarys.k12.oh.us
SUMMARY:Farm City Day 5th Grade Field Trip
DESCRIPTION:
URL:https://stmarys.k12.oh.us/event/farm-city-day-5th-grade-field-trip-2/
END:VEVENT
BEGIN:VEVENT
DTSTART;TZID=America/New_York:20181003T100000
DTEND;TZID=America/New_York:20181003T100000
DTSTAMP:20260425T214118
CREATED:20181003T130938Z
LAST-MODIFIED:20181003T130938Z
UID:2755-1538560800-1538560800@stmarys.k12.oh.us
SUMMARY:Golf @ WCMS County Tournament
DESCRIPTION:
URL:https://stmarys.k12.oh.us/event/golf-wcms-county-tournament/
END:VEVENT
BEGIN:VEVENT
DTSTART;VALUE=DATE:20181001
DTEND;VALUE=DATE:20181002
DTSTAMP:20260425T214118
CREATED:20181003T133654Z
LAST-MODIFIED:20181003T133654Z
UID:2798-1538352000-1538438399@stmarys.k12.oh.us
SUMMARY:Shorts\, Skorts & Capri’s can be worn thru October.  Follow school guidelines for length requirements.
DESCRIPTION:
URL:https://stmarys.k12.oh.us/event/shorts-skorts-capris-can-be-worn-thru-october-follow-school-guidelines-for-length-requirements/
END:VEVENT
BEGIN:VEVENT
DTSTART;TZID=America/New_York:20180930T130000
DTEND;TZID=America/New_York:20180930T170000
DTSTAMP:20260425T214118
CREATED:20180905T130306Z
LAST-MODIFIED:20180905T130306Z
UID:2736-1538312400-1538326800@stmarys.k12.oh.us
SUMMARY:Fall Festival: Chicken Dinner
DESCRIPTION:
URL:https://stmarys.k12.oh.us/event/fall-festival-chicken-dinner/
END:VEVENT
BEGIN:VEVENT
DTSTART;VALUE=DATE:20180930
DTEND;VALUE=DATE:20181001
DTSTAMP:20260425T214118
CREATED:20180905T013651Z
LAST-MODIFIED:20180905T013743Z
UID:2690-1538265600-1538351999@stmarys.k12.oh.us
SUMMARY:Shorts\, Skorts & Capri's can be worn Aug 22 thru the end of Oct. Follow school guidelines for length requirements.
DESCRIPTION:
URL:https://stmarys.k12.oh.us/event/shorts-skorts-capris-can-be-worn-aug-22-thru-the-end-of-oct-follow-school-guidelines-for-length-requirements/
END:VEVENT
BEGIN:VEVENT
DTSTART;VALUE=DATE:20180929
DTEND;VALUE=DATE:20180930
DTSTAMP:20260425T214118
CREATED:20180905T130219Z
LAST-MODIFIED:20180905T130219Z
UID:2735-1538179200-1538265599@stmarys.k12.oh.us
SUMMARY:Fall Festival: Super Bingo
DESCRIPTION:
URL:https://stmarys.k12.oh.us/event/fall-festival-super-bingo/
END:VEVENT
BEGIN:VEVENT
DTSTART;VALUE=DATE:20180929
DTEND;VALUE=DATE:20180930
DTSTAMP:20260425T214118
CREATED:20180905T130142Z
LAST-MODIFIED:20180905T130142Z
UID:2734-1538179200-1538265599@stmarys.k12.oh.us
SUMMARY:Cross Country @ Pickerington
DESCRIPTION:
URL:https://stmarys.k12.oh.us/event/cross-country-pickerington/
END:VEVENT
BEGIN:VEVENT
DTSTART;TZID=America/New_York:20180928T091500
DTEND;TZID=America/New_York:20180928T091500
DTSTAMP:20260425T214118
CREATED:20180905T125956Z
LAST-MODIFIED:20180905T125956Z
UID:2732-1538126100-1538126100@stmarys.k12.oh.us
SUMMARY:All School Mass
DESCRIPTION:
URL:https://stmarys.k12.oh.us/event/all-school-mass-20/
LOCATION:Gym
END:VEVENT
BEGIN:VEVENT
DTSTART;VALUE=DATE:20180928
DTEND;VALUE=DATE:20180929
DTSTAMP:20260425T214118
CREATED:20180905T130032Z
LAST-MODIFIED:20180905T130032Z
UID:2733-1538092800-1538179199@stmarys.k12.oh.us
SUMMARY:Fall Festival: Live Auction\, House of Wines
DESCRIPTION:
URL:https://stmarys.k12.oh.us/event/fall-festival-live-auction-house-of-wines/
END:VEVENT
BEGIN:VEVENT
DTSTART;TZID=America/New_York:20180927T180000
DTEND;TZID=America/New_York:20180927T180000
DTSTAMP:20260425T214118
CREATED:20180905T125814Z
LAST-MODIFIED:20180905T125814Z
UID:2731-1538071200-1538071200@stmarys.k12.oh.us
SUMMARY:Home & School Meeting
DESCRIPTION:
URL:https://stmarys.k12.oh.us/event/home-school-meeting-4/
LOCATION:Parish Center
END:VEVENT
BEGIN:VEVENT
DTSTART;TZID=America/New_York:20180927T173000
DTEND;TZID=America/New_York:20180927T173000
DTSTAMP:20260425T214118
CREATED:20180905T125532Z
LAST-MODIFIED:20180905T125532Z
UID:2729-1538069400-1538069400@stmarys.k12.oh.us
SUMMARY:Jr High Volleyball @ Fort Frye
DESCRIPTION:
URL:https://stmarys.k12.oh.us/event/jr-high-volleyball-fort-frye/
END:VEVENT
END:VCALENDAR