BEGIN:VCALENDAR
VERSION:2.0
PRODID:-//St. Mary Catholic School - ECPv6.15.20//NONSGML v1.0//EN
CALSCALE:GREGORIAN
METHOD:PUBLISH
X-WR-CALNAME:St. Mary Catholic School
X-ORIGINAL-URL:https://stmarys.k12.oh.us
X-WR-CALDESC:Events for St. Mary Catholic School
REFRESH-INTERVAL;VALUE=DURATION:PT1H
X-Robots-Tag:noindex
X-PUBLISHED-TTL:PT1H
BEGIN:VTIMEZONE
TZID:UTC
BEGIN:STANDARD
TZOFFSETFROM:+0000
TZOFFSETTO:+0000
TZNAME:UTC
DTSTART:20210101T000000
END:STANDARD
END:VTIMEZONE
BEGIN:VTIMEZONE
TZID:America/New_York
BEGIN:DAYLIGHT
TZOFFSETFROM:-0500
TZOFFSETTO:-0400
TZNAME:EDT
DTSTART:20170312T070000
END:DAYLIGHT
BEGIN:STANDARD
TZOFFSETFROM:-0400
TZOFFSETTO:-0500
TZNAME:EST
DTSTART:20171105T060000
END:STANDARD
BEGIN:DAYLIGHT
TZOFFSETFROM:-0500
TZOFFSETTO:-0400
TZNAME:EDT
DTSTART:20180311T070000
END:DAYLIGHT
BEGIN:STANDARD
TZOFFSETFROM:-0400
TZOFFSETTO:-0500
TZNAME:EST
DTSTART:20181104T060000
END:STANDARD
BEGIN:DAYLIGHT
TZOFFSETFROM:-0500
TZOFFSETTO:-0400
TZNAME:EDT
DTSTART:20190310T070000
END:DAYLIGHT
BEGIN:STANDARD
TZOFFSETFROM:-0400
TZOFFSETTO:-0500
TZNAME:EST
DTSTART:20191103T060000
END:STANDARD
BEGIN:DAYLIGHT
TZOFFSETFROM:-0500
TZOFFSETTO:-0400
TZNAME:EDT
DTSTART:20200308T070000
END:DAYLIGHT
BEGIN:STANDARD
TZOFFSETFROM:-0400
TZOFFSETTO:-0500
TZNAME:EST
DTSTART:20201101T060000
END:STANDARD
BEGIN:DAYLIGHT
TZOFFSETFROM:-0500
TZOFFSETTO:-0400
TZNAME:EDT
DTSTART:20210314T070000
END:DAYLIGHT
BEGIN:STANDARD
TZOFFSETFROM:-0400
TZOFFSETTO:-0500
TZNAME:EST
DTSTART:20211107T060000
END:STANDARD
BEGIN:DAYLIGHT
TZOFFSETFROM:-0500
TZOFFSETTO:-0400
TZNAME:EDT
DTSTART:20220313T070000
END:DAYLIGHT
BEGIN:STANDARD
TZOFFSETFROM:-0400
TZOFFSETTO:-0500
TZNAME:EST
DTSTART:20221106T060000
END:STANDARD
END:VTIMEZONE
BEGIN:VEVENT
DTSTART;VALUE=DATE:20220222
DTEND;VALUE=DATE:20220411
DTSTAMP:20260425T181852
CREATED:20220222T155822Z
LAST-MODIFIED:20220222T155934Z
UID:3928-1645488000-1649635199@stmarys.k12.oh.us
SUMMARY:Sarris Chocolate Home & School Fundraiser
DESCRIPTION:
URL:https://stmarys.k12.oh.us/event/sarriscandiesfundraising-com/
END:VEVENT
BEGIN:VEVENT
DTSTART;TZID=America/New_York:20211105T180000
DTEND;TZID=America/New_York:20211107T180000
DTSTAMP:20260425T181852
CREATED:20211007T133107Z
LAST-MODIFIED:20211007T133107Z
UID:3854-1636135200-1636308000@stmarys.k12.oh.us
SUMMARY:Fall Festival Virtual Auction
DESCRIPTION:Fall Festival Virtual Auction
URL:https://stmarys.k12.oh.us/event/fall-festival-virtual-auction/
END:VEVENT
BEGIN:VEVENT
DTSTART;TZID=America/New_York:20210818T000000
DTEND;TZID=America/New_York:20210818T000000
DTSTAMP:20260425T181852
CREATED:20210802T151211Z
LAST-MODIFIED:20210802T152847Z
UID:3810-1629244800-1629244800@stmarys.k12.oh.us
SUMMARY:2021-2022 St. Mary Catholic School calendar
DESCRIPTION:2021-2022-Calendar
URL:https://stmarys.k12.oh.us/event/2021-2022-st-mary-catholic-school-calendar/
END:VEVENT
BEGIN:VEVENT
DTSTART;TZID=America/New_York:20210816T170000
DTEND;TZID=America/New_York:20210816T190000
DTSTAMP:20260425T181852
CREATED:20210801T141446Z
LAST-MODIFIED:20210801T141446Z
UID:3804-1629133200-1629140400@stmarys.k12.oh.us
SUMMARY:Back to School Open House Grades Kindergarten - 8th grade.  Monday\, August 16th 5:00 - 7:00 PM
DESCRIPTION:It’s time for back to school open house!  Tour the classrooms\, meet your teachers and enjoy a simple cookout of hotdogs\, chips and snow cones courtesy of the Irish Booster organization.
URL:https://stmarys.k12.oh.us/event/back-to-school-open-house-grades-kindergarten-8th-grade-monday-august-16th-500-700-pm/
LOCATION:St. Mary Catholic School
END:VEVENT
BEGIN:VEVENT
DTSTART;TZID=America/New_York:20210812T170000
DTEND;TZID=America/New_York:20210812T183000
DTSTAMP:20260425T181852
CREATED:20210801T141038Z
LAST-MODIFIED:20210801T141038Z
UID:3802-1628787600-1628793000@stmarys.k12.oh.us
SUMMARY:Preschool 3\, Preschool 4 and PreKindergarten Open House\, Thursday\, August 12th.  5:00 - 6:30 PM
DESCRIPTION:Preschool 3\, Preschool 4 and PreKindergarten Open House.  Thursday\, August 12th\, 5:00 – 6:30 PM.  See the classrooms\, meet the teachers and enjoy a snow cone with friends. \n 
URL:https://stmarys.k12.oh.us/event/preschool-3-preschool-4-and-prekindergarten-open-house-thursday-august-12th-500-630-pm/
LOCATION:St. Mary Catholic School
END:VEVENT
BEGIN:VEVENT
DTSTART;TZID=America/New_York:20210811T180000
DTEND;TZID=America/New_York:20210811T200000
DTSTAMP:20260425T181852
CREATED:20210801T140603Z
LAST-MODIFIED:20210801T140603Z
UID:3800-1628704800-1628712000@stmarys.k12.oh.us
SUMMARY:Back to School grounds clean-up August 11th 6:00 - 8:00 PM
DESCRIPTION:Back to school grounds clean-up.  Wednesday\, August 11th 6:00 – 8:00 PM.  Let’s spruce up the grounds for the start of our 2021-2022 school year!  The more hands the merrier!  Bring gloves and rakes!
URL:https://stmarys.k12.oh.us/event/back-to-school-grounds-clean-up-august-11th-600-800-pm/
LOCATION:St. Mary Catholic School
END:VEVENT
BEGIN:VEVENT
DTSTART;TZID=America/New_York:20210131T080000
DTEND;TZID=America/New_York:20210131T170000
DTSTAMP:20260425T181852
CREATED:20210113T145318Z
LAST-MODIFIED:20210113T145547Z
UID:3602-1612080000-1612112400@stmarys.k12.oh.us
SUMMARY:Super Bowl Sub Sale sponsored by the Basilica Catholic Womens Club
DESCRIPTION:
URL:https://stmarys.k12.oh.us/event/super-bowl-sub-sale-sponsored-by-the-basilica-catholic-womens-club/
END:VEVENT
BEGIN:VEVENT
DTSTART;TZID=America/New_York:20210105T080000
DTEND;TZID=America/New_York:20210105T170000
DTSTAMP:20260425T181852
CREATED:20210105T162358Z
LAST-MODIFIED:20210105T162358Z
UID:3590-1609833600-1609866000@stmarys.k12.oh.us
SUMMARY:Catholic School Week - January 31st-February 6th
DESCRIPTION:
URL:https://stmarys.k12.oh.us/event/catholic-school-week-january-31st-february-6th/
END:VEVENT
BEGIN:VEVENT
DTSTART;VALUE=DATE:20200824
DTEND;VALUE=DATE:20210530
DTSTAMP:20260425T181852
CREATED:20200824T040008Z
LAST-MODIFIED:20200925T143526Z
UID:3400-1598227200-1622332799@stmarys.k12.oh.us
SUMMARY:St. Mary Catholic School Calendar 2020-2021
DESCRIPTION:St. Mary Catholic School 2020-2021 calendar
URL:https://stmarys.k12.oh.us/event/st-mary-catholic-school-calendar-2020-2021/
CATEGORIES:School Calendar
END:VEVENT
BEGIN:VEVENT
DTSTART;VALUE=DATE:20181027
DTEND;VALUE=DATE:20181028
DTSTAMP:20260425T181852
CREATED:20181003T133456Z
LAST-MODIFIED:20181003T133456Z
UID:2795-1540598400-1540684799@stmarys.k12.oh.us
SUMMARY:Youth League Basketball
DESCRIPTION:
URL:https://stmarys.k12.oh.us/event/youth-league-basketball-8/
END:VEVENT
BEGIN:VEVENT
DTSTART;VALUE=DATE:20181026
DTEND;VALUE=DATE:20181027
DTSTAMP:20260425T181852
CREATED:20181003T133339Z
LAST-MODIFIED:20181003T133339Z
UID:2793-1540512000-1540598399@stmarys.k12.oh.us
SUMMARY:YES Day – 7th Grade
DESCRIPTION:
URL:https://stmarys.k12.oh.us/event/yes-day-7th-grade-2/
END:VEVENT
BEGIN:VEVENT
DTSTART;TZID=America/New_York:20181025T180000
DTEND;TZID=America/New_York:20181025T180000
DTSTAMP:20260425T181852
CREATED:20181003T133217Z
LAST-MODIFIED:20181003T133217Z
UID:2791-1540490400-1540490400@stmarys.k12.oh.us
SUMMARY:Home & School Mtg.
DESCRIPTION:
URL:https://stmarys.k12.oh.us/event/home-school-mtg-3/
LOCATION:Parish Center
END:VEVENT
BEGIN:VEVENT
DTSTART;TZID=America/New_York:20181025T080000
DTEND;TZID=America/New_York:20181025T080000
DTSTAMP:20260425T181852
CREATED:20181003T133111Z
LAST-MODIFIED:20181003T133111Z
UID:2790-1540454400-1540454400@stmarys.k12.oh.us
SUMMARY:Power of the Pen
DESCRIPTION:
URL:https://stmarys.k12.oh.us/event/power-of-the-pen-23/
END:VEVENT
BEGIN:VEVENT
DTSTART;VALUE=DATE:20181023
DTEND;VALUE=DATE:20181024
DTSTAMP:20260425T181852
CREATED:20181003T132938Z
LAST-MODIFIED:20181003T132938Z
UID:2788-1540252800-1540339199@stmarys.k12.oh.us
SUMMARY:Student Council
DESCRIPTION:
URL:https://stmarys.k12.oh.us/event/student-council-9/
END:VEVENT
BEGIN:VEVENT
DTSTART;VALUE=DATE:20181022
DTEND;VALUE=DATE:20181023
DTSTAMP:20260425T181852
CREATED:20181003T132909Z
LAST-MODIFIED:20181003T132910Z
UID:2787-1540166400-1540252799@stmarys.k12.oh.us
SUMMARY:2nd Quarter Begins
DESCRIPTION:
URL:https://stmarys.k12.oh.us/event/2nd-quarter-begins-2/
END:VEVENT
BEGIN:VEVENT
DTSTART;VALUE=DATE:20181022
DTEND;VALUE=DATE:20181023
DTSTAMP:20260425T181852
CREATED:20181003T132840Z
LAST-MODIFIED:20181003T132840Z
UID:2786-1540166400-1540252799@stmarys.k12.oh.us
SUMMARY:Nina & Pinta Field Trip 3rd-8th Grade
DESCRIPTION:
URL:https://stmarys.k12.oh.us/event/nina-pinta-field-trip-3rd-8th-grade/
END:VEVENT
BEGIN:VEVENT
DTSTART;TZID=America/New_York:20181017T180000
DTEND;TZID=America/New_York:20181017T180000
DTSTAMP:20260425T181852
CREATED:20181003T132444Z
LAST-MODIFIED:20181003T132444Z
UID:2780-1539799200-1539799200@stmarys.k12.oh.us
SUMMARY:SMS Foundation Mtg.
DESCRIPTION:
URL:https://stmarys.k12.oh.us/event/sms-foundation-mtg-4/
LOCATION:Parish Center
END:VEVENT
BEGIN:VEVENT
DTSTART;VALUE=DATE:20181017
DTEND;VALUE=DATE:20181018
DTSTAMP:20260425T181852
CREATED:20181003T132406Z
LAST-MODIFIED:20181003T132406Z
UID:2779-1539734400-1539820799@stmarys.k12.oh.us
SUMMARY:All School Mass-Basilica
DESCRIPTION:
URL:https://stmarys.k12.oh.us/event/all-school-mass-basilica/
END:VEVENT
BEGIN:VEVENT
DTSTART;VALUE=DATE:20181016
DTEND;VALUE=DATE:20181017
DTSTAMP:20260425T181852
CREATED:20181003T132330Z
LAST-MODIFIED:20181003T132330Z
UID:2778-1539648000-1539734399@stmarys.k12.oh.us
SUMMARY:Cross Country @ Broughton’s
DESCRIPTION:
URL:https://stmarys.k12.oh.us/event/cross-country-broughtons-2/
END:VEVENT
BEGIN:VEVENT
DTSTART;VALUE=DATE:20181016
DTEND;VALUE=DATE:20181017
DTSTAMP:20260425T181852
CREATED:20181003T132258Z
LAST-MODIFIED:20181003T132258Z
UID:2777-1539648000-1539734399@stmarys.k12.oh.us
SUMMARY:Confessions 3\, 4 & 5
DESCRIPTION:
URL:https://stmarys.k12.oh.us/event/confessions-3-4-5-2/
END:VEVENT
BEGIN:VEVENT
DTSTART;VALUE=DATE:20181015
DTEND;VALUE=DATE:20181016
DTSTAMP:20260425T181852
CREATED:20181003T132228Z
LAST-MODIFIED:20181003T132228Z
UID:2776-1539561600-1539647999@stmarys.k12.oh.us
SUMMARY:School Picture Retakes
DESCRIPTION:
URL:https://stmarys.k12.oh.us/event/school-picture-retakes-2/
END:VEVENT
BEGIN:VEVENT
DTSTART;VALUE=DATE:20181015
DTEND;VALUE=DATE:20181016
DTSTAMP:20260425T181852
CREATED:20181003T132200Z
LAST-MODIFIED:20181003T132200Z
UID:2775-1539561600-1539647999@stmarys.k12.oh.us
SUMMARY:Confessions 6\, 7 & 8
DESCRIPTION:
URL:https://stmarys.k12.oh.us/event/confessions-6-7-8-2/
END:VEVENT
BEGIN:VEVENT
DTSTART;VALUE=DATE:20181014
DTEND;VALUE=DATE:20181015
DTSTAMP:20260425T181852
CREATED:20181003T132131Z
LAST-MODIFIED:20181003T132131Z
UID:2774-1539475200-1539561599@stmarys.k12.oh.us
SUMMARY:Diocesan Youth Conference @ Cambridge
DESCRIPTION:
URL:https://stmarys.k12.oh.us/event/diocesan-youth-conference-cambridge/
END:VEVENT
BEGIN:VEVENT
DTSTART;VALUE=DATE:20181013
DTEND;VALUE=DATE:20181014
DTSTAMP:20260425T181852
CREATED:20181003T132059Z
LAST-MODIFIED:20181003T132059Z
UID:2773-1539388800-1539475199@stmarys.k12.oh.us
SUMMARY:Youth League Basketball
DESCRIPTION:
URL:https://stmarys.k12.oh.us/event/youth-league-basketball-6/
END:VEVENT
BEGIN:VEVENT
DTSTART;TZID=America/New_York:20181011T080000
DTEND;TZID=America/New_York:20181011T080000
DTSTAMP:20260425T181852
CREATED:20181003T131959Z
LAST-MODIFIED:20181003T131959Z
UID:2772-1539244800-1539244800@stmarys.k12.oh.us
SUMMARY:Power of the Pen
DESCRIPTION:
URL:https://stmarys.k12.oh.us/event/power-of-the-pen-21/
END:VEVENT
BEGIN:VEVENT
DTSTART;TZID=America/New_York:20181010T180000
DTEND;TZID=America/New_York:20181010T180000
DTSTAMP:20260425T181852
CREATED:20181003T131926Z
LAST-MODIFIED:20181003T131926Z
UID:2771-1539194400-1539194400@stmarys.k12.oh.us
SUMMARY:LEAC
DESCRIPTION:
URL:https://stmarys.k12.oh.us/event/leac-7/
LOCATION:Parish Center
END:VEVENT
BEGIN:VEVENT
DTSTART;VALUE=DATE:20181010
DTEND;VALUE=DATE:20181011
DTSTAMP:20260425T181852
CREATED:20181003T131840Z
LAST-MODIFIED:20181003T131840Z
UID:2770-1539129600-1539215999@stmarys.k12.oh.us
SUMMARY:Microsoft Field Trip 8th Grade
DESCRIPTION:
URL:https://stmarys.k12.oh.us/event/microsoft-field-trip-8th-grade/
END:VEVENT
BEGIN:VEVENT
DTSTART;VALUE=DATE:20181010
DTEND;VALUE=DATE:20181011
DTSTAMP:20260425T181852
CREATED:20181003T131815Z
LAST-MODIFIED:20181003T131815Z
UID:2769-1539129600-1539215999@stmarys.k12.oh.us
SUMMARY:Fire Safety House K-3
DESCRIPTION:
URL:https://stmarys.k12.oh.us/event/fire-safety-house-k-3-2/
END:VEVENT
BEGIN:VEVENT
DTSTART;TZID=America/New_York:20181009T160000
DTEND;TZID=America/New_York:20181009T200000
DTSTAMP:20260425T181852
CREATED:20181003T131747Z
LAST-MODIFIED:20181003T131747Z
UID:2767-1539100800-1539115200@stmarys.k12.oh.us
SUMMARY:Parent/Student/Teacher Conferences
DESCRIPTION:
URL:https://stmarys.k12.oh.us/event/parent-student-teacher-conferences-2/
END:VEVENT
BEGIN:VEVENT
DTSTART;VALUE=DATE:20181009
DTEND;VALUE=DATE:20181010
DTSTAMP:20260425T181852
CREATED:20181003T131708Z
LAST-MODIFIED:20181003T131708Z
UID:2766-1539043200-1539129599@stmarys.k12.oh.us
SUMMARY:Rosary Congress 7th Grade
DESCRIPTION:
URL:https://stmarys.k12.oh.us/event/rosary-congress-7th-grade/
END:VEVENT
END:VCALENDAR