BEGIN:VCALENDAR
VERSION:2.0
PRODID:-//St. Mary Catholic School - ECPv6.15.20//NONSGML v1.0//EN
CALSCALE:GREGORIAN
METHOD:PUBLISH
X-ORIGINAL-URL:https://stmarys.k12.oh.us
X-WR-CALDESC:Events for St. Mary Catholic School
REFRESH-INTERVAL;VALUE=DURATION:PT1H
X-Robots-Tag:noindex
X-PUBLISHED-TTL:PT1H
BEGIN:VTIMEZONE
TZID:America/New_York
BEGIN:DAYLIGHT
TZOFFSETFROM:-0500
TZOFFSETTO:-0400
TZNAME:EDT
DTSTART:20170312T070000
END:DAYLIGHT
BEGIN:STANDARD
TZOFFSETFROM:-0400
TZOFFSETTO:-0500
TZNAME:EST
DTSTART:20171105T060000
END:STANDARD
BEGIN:DAYLIGHT
TZOFFSETFROM:-0500
TZOFFSETTO:-0400
TZNAME:EDT
DTSTART:20180311T070000
END:DAYLIGHT
BEGIN:STANDARD
TZOFFSETFROM:-0400
TZOFFSETTO:-0500
TZNAME:EST
DTSTART:20181104T060000
END:STANDARD
BEGIN:DAYLIGHT
TZOFFSETFROM:-0500
TZOFFSETTO:-0400
TZNAME:EDT
DTSTART:20190310T070000
END:DAYLIGHT
BEGIN:STANDARD
TZOFFSETFROM:-0400
TZOFFSETTO:-0500
TZNAME:EST
DTSTART:20191103T060000
END:STANDARD
END:VTIMEZONE
BEGIN:VTIMEZONE
TZID:UTC
BEGIN:STANDARD
TZOFFSETFROM:+0000
TZOFFSETTO:+0000
TZNAME:UTC
DTSTART:20170101T000000
END:STANDARD
END:VTIMEZONE
BEGIN:VEVENT
DTSTART;VALUE=DATE:20180328
DTEND;VALUE=DATE:20180329
DTSTAMP:20260425T080958
CREATED:20180301T185733Z
LAST-MODIFIED:20180301T185733Z
UID:2433-1522195200-1522281599@stmarys.k12.oh.us
SUMMARY:All "A" Pizza Party
DESCRIPTION:
URL:https://stmarys.k12.oh.us/event/all-a-pizza-party/
CATEGORIES:School Calendar
END:VEVENT
BEGIN:VEVENT
DTSTART;TZID=America/New_York:20180327T091500
DTEND;TZID=America/New_York:20180327T091500
DTSTAMP:20260425T080958
CREATED:20180301T185629Z
LAST-MODIFIED:20180301T185629Z
UID:2432-1522142100-1522142100@stmarys.k12.oh.us
SUMMARY:Confessions 3\,4\,5
DESCRIPTION:
URL:https://stmarys.k12.oh.us/event/confessions-345/
CATEGORIES:School Calendar
END:VEVENT
BEGIN:VEVENT
DTSTART;TZID=America/New_York:20180327T080000
DTEND;TZID=America/New_York:20180327T080000
DTSTAMP:20260425T080958
CREATED:20180301T185549Z
LAST-MODIFIED:20180301T185549Z
UID:2431-1522137600-1522137600@stmarys.k12.oh.us
SUMMARY:Math Counts
DESCRIPTION:
URL:https://stmarys.k12.oh.us/event/math-counts-8/
LOCATION:St. Mary Catholic School
CATEGORIES:School Calendar
END:VEVENT
BEGIN:VEVENT
DTSTART;TZID=America/New_York:20180326T091500
DTEND;TZID=America/New_York:20180326T091500
DTSTAMP:20260425T080958
CREATED:20180301T185407Z
LAST-MODIFIED:20180301T185407Z
UID:2427-1522055700-1522055700@stmarys.k12.oh.us
SUMMARY:Confessions 6\,7\,8
DESCRIPTION:
URL:https://stmarys.k12.oh.us/event/confessions-678/
CATEGORIES:School Calendar
END:VEVENT
BEGIN:VEVENT
DTSTART;VALUE=DATE:20180326
DTEND;VALUE=DATE:20180327
DTSTAMP:20260425T080958
CREATED:20180301T185451Z
LAST-MODIFIED:20180301T185451Z
UID:2429-1522022400-1522108799@stmarys.k12.oh.us
SUMMARY:Dress Down Day
DESCRIPTION:
URL:https://stmarys.k12.oh.us/event/dress-down-day-13/
LOCATION:St. Mary Catholic School
CATEGORIES:School Calendar
END:VEVENT
BEGIN:VEVENT
DTSTART;TZID=America/New_York:20180322T080000
DTEND;TZID=America/New_York:20180322T080000
DTSTAMP:20260425T080958
CREATED:20180301T184935Z
LAST-MODIFIED:20180301T184935Z
UID:2421-1521705600-1521705600@stmarys.k12.oh.us
SUMMARY:Power of the Pen
DESCRIPTION:
URL:https://stmarys.k12.oh.us/event/power-of-the-pen-19/
LOCATION:St. Mary Catholic School
CATEGORIES:School Calendar
END:VEVENT
BEGIN:VEVENT
DTSTART;VALUE=DATE:20180322
DTEND;VALUE=DATE:20180323
DTSTAMP:20260425T080958
CREATED:20180301T184959Z
LAST-MODIFIED:20180301T184959Z
UID:2422-1521676800-1521763199@stmarys.k12.oh.us
SUMMARY:Report cards mailed
DESCRIPTION:
URL:https://stmarys.k12.oh.us/event/report-cards-mailed/
LOCATION:St. Mary Catholic School
CATEGORIES:School Calendar
END:VEVENT
BEGIN:VEVENT
DTSTART;TZID=America/New_York:20180320T083000
DTEND;TZID=America/New_York:20180320T083000
DTSTAMP:20260425T080958
CREATED:20180301T184654Z
LAST-MODIFIED:20180301T184654Z
UID:2418-1521534600-1521534600@stmarys.k12.oh.us
SUMMARY:Spelling Bee Practice
DESCRIPTION:
URL:https://stmarys.k12.oh.us/event/spelling-bee-practice-14/
LOCATION:St. Mary Catholic School
CATEGORIES:School Calendar
END:VEVENT
BEGIN:VEVENT
DTSTART;TZID=America/New_York:20180320T080000
DTEND;TZID=America/New_York:20180320T080000
DTSTAMP:20260425T080958
CREATED:20180301T184620Z
LAST-MODIFIED:20180301T184620Z
UID:2417-1521532800-1521532800@stmarys.k12.oh.us
SUMMARY:Math Counts
DESCRIPTION:
URL:https://stmarys.k12.oh.us/event/math-counts-7/
LOCATION:St. Mary Catholic School
CATEGORIES:School Calendar
END:VEVENT
BEGIN:VEVENT
DTSTART;TZID=America/New_York:20180319T120500
DTEND;TZID=America/New_York:20180319T120500
DTSTAMP:20260425T080958
CREATED:20180301T183707Z
LAST-MODIFIED:20180301T183707Z
UID:2415-1521461100-1521461100@stmarys.k12.oh.us
SUMMARY:All School Mass
DESCRIPTION:
URL:https://stmarys.k12.oh.us/event/all-school-mass-12/
LOCATION:Basilica
CATEGORIES:School Calendar
END:VEVENT
BEGIN:VEVENT
DTSTART;VALUE=DATE:20180319
DTEND;VALUE=DATE:20180320
DTSTAMP:20260425T080958
CREATED:20170806T222032Z
LAST-MODIFIED:20180301T183316Z
UID:938-1521417600-1521503999@stmarys.k12.oh.us
SUMMARY:4th Quarter Begins
DESCRIPTION:
URL:https://stmarys.k12.oh.us/event/start-of-4th-nine-weeks/
LOCATION:St. Mary Catholic School
CATEGORIES:School Calendar
END:VEVENT
BEGIN:VEVENT
DTSTART;VALUE=DATE:20180319
DTEND;VALUE=DATE:20180320
DTSTAMP:20260425T080958
CREATED:20180301T184252Z
LAST-MODIFIED:20180301T184252Z
UID:2416-1521417600-1521503999@stmarys.k12.oh.us
SUMMARY:Feast of St. Joseph
DESCRIPTION:
URL:https://stmarys.k12.oh.us/event/feast-st-joseph/
CATEGORIES:School Calendar
END:VEVENT
BEGIN:VEVENT
DTSTART;TZID=UTC:20180315T080000
DTEND;TZID=UTC:20180316T163000
DTSTAMP:20260425T080958
CREATED:20170806T222112Z
LAST-MODIFIED:20170806T222112Z
UID:940-1521100800-1521217800@stmarys.k12.oh.us
SUMMARY:No School
DESCRIPTION:
URL:https://stmarys.k12.oh.us/event/no-school/
LOCATION:St. Mary Catholic School
CATEGORIES:School Calendar
END:VEVENT
BEGIN:VEVENT
DTSTART;TZID=America/New_York:20180314T091500
DTEND;TZID=America/New_York:20180314T091500
DTSTAMP:20260425T080958
CREATED:20180301T183507Z
LAST-MODIFIED:20180301T183507Z
UID:2412-1521018900-1521018900@stmarys.k12.oh.us
SUMMARY:All School Mass
DESCRIPTION:
URL:https://stmarys.k12.oh.us/event/all-school-mass-11/
LOCATION:Gym
CATEGORIES:School Calendar
END:VEVENT
BEGIN:VEVENT
DTSTART;VALUE=DATE:20180314
DTEND;VALUE=DATE:20180315
DTSTAMP:20260425T080958
CREATED:20180301T183349Z
LAST-MODIFIED:20180301T183349Z
UID:2410-1520985600-1521071999@stmarys.k12.oh.us
SUMMARY:Diocesan Tournament of Truth St. Clairsville
DESCRIPTION:
URL:https://stmarys.k12.oh.us/event/diocesan-tournament-truth-st-clairsville/
CATEGORIES:School Calendar
END:VEVENT
BEGIN:VEVENT
DTSTART;VALUE=DATE:20180314
DTEND;VALUE=DATE:20180315
DTSTAMP:20260425T080958
CREATED:20180301T183231Z
LAST-MODIFIED:20180301T190628Z
UID:2409-1520985600-1521071999@stmarys.k12.oh.us
SUMMARY:3rd Quarter Ends
DESCRIPTION:
URL:https://stmarys.k12.oh.us/event/3rd-quarter-ends/
LOCATION:St. Mary Catholic School
CATEGORIES:School Calendar
END:VEVENT
BEGIN:VEVENT
DTSTART;TZID=America/New_York:20180313T083000
DTEND;TZID=America/New_York:20180313T083000
DTSTAMP:20260425T080958
CREATED:20180301T183137Z
LAST-MODIFIED:20180301T183137Z
UID:2408-1520929800-1520929800@stmarys.k12.oh.us
SUMMARY:Spelling Bee Practice
DESCRIPTION:
URL:https://stmarys.k12.oh.us/event/spelling-bee-practice-13/
LOCATION:St. Mary Catholic School
CATEGORIES:School Calendar
END:VEVENT
BEGIN:VEVENT
DTSTART;TZID=America/New_York:20180313T080000
DTEND;TZID=America/New_York:20180313T080000
DTSTAMP:20260425T080958
CREATED:20180301T183059Z
LAST-MODIFIED:20180301T183059Z
UID:2407-1520928000-1520928000@stmarys.k12.oh.us
SUMMARY:Math Counts
DESCRIPTION:
URL:https://stmarys.k12.oh.us/event/math-counts-6/
LOCATION:St. Mary Catholic School
CATEGORIES:School Calendar
END:VEVENT
BEGIN:VEVENT
DTSTART;VALUE=DATE:20180312
DTEND;VALUE=DATE:20180313
DTSTAMP:20260425T080958
CREATED:20180301T183028Z
LAST-MODIFIED:20180301T183028Z
UID:2406-1520812800-1520899199@stmarys.k12.oh.us
SUMMARY:Dress Down Day
DESCRIPTION:
URL:https://stmarys.k12.oh.us/event/dress-down-day-12/
LOCATION:St. Mary Catholic School
CATEGORIES:School Calendar
END:VEVENT
BEGIN:VEVENT
DTSTART;VALUE=DATE:20180310
DTEND;VALUE=DATE:20180311
DTSTAMP:20260425T080958
CREATED:20180301T182954Z
LAST-MODIFIED:20180301T182954Z
UID:2405-1520640000-1520726399@stmarys.k12.oh.us
SUMMARY:Regional Power of the Pen Competition
DESCRIPTION:
URL:https://stmarys.k12.oh.us/event/regional-power-pen-competition/
CATEGORIES:School Calendar
END:VEVENT
BEGIN:VEVENT
DTSTART;TZID=America/New_York:20180309T091500
DTEND;TZID=America/New_York:20180309T091500
DTSTAMP:20260425T080958
CREATED:20180301T182924Z
LAST-MODIFIED:20180301T182924Z
UID:2404-1520586900-1520586900@stmarys.k12.oh.us
SUMMARY:All School Mass
DESCRIPTION:
URL:https://stmarys.k12.oh.us/event/all-school-mass-10/
LOCATION:Gym
CATEGORIES:School Calendar
END:VEVENT
BEGIN:VEVENT
DTSTART;TZID=America/New_York:20180309T080000
DTEND;TZID=America/New_York:20180309T080000
DTSTAMP:20260425T080958
CREATED:20180301T182832Z
LAST-MODIFIED:20180301T182832Z
UID:2403-1520582400-1520582400@stmarys.k12.oh.us
SUMMARY:Tournament of Truth Practice
DESCRIPTION:
URL:https://stmarys.k12.oh.us/event/tournament-truth-practice-3/
CATEGORIES:School Calendar
END:VEVENT
BEGIN:VEVENT
DTSTART;TZID=America/New_York:20180308T080000
DTEND;TZID=America/New_York:20180308T080000
DTSTAMP:20260425T080958
CREATED:20180301T182749Z
LAST-MODIFIED:20180301T182749Z
UID:2402-1520496000-1520496000@stmarys.k12.oh.us
SUMMARY:Power of the Pen
DESCRIPTION:
URL:https://stmarys.k12.oh.us/event/power-of-the-pen-18/
LOCATION:St. Mary Catholic School
CATEGORIES:School Calendar
END:VEVENT
BEGIN:VEVENT
DTSTART;TZID=America/New_York:20180307T190000
DTEND;TZID=America/New_York:20180307T190000
DTSTAMP:20260425T080958
CREATED:20180301T182708Z
LAST-MODIFIED:20180301T182708Z
UID:2400-1520449200-1520449200@stmarys.k12.oh.us
SUMMARY:First Communion Parent Meeting
DESCRIPTION:
URL:https://stmarys.k12.oh.us/event/first-communion-parent-meeting/
LOCATION:St. Mary Catholic School Parish Center
CATEGORIES:School Calendar
END:VEVENT
BEGIN:VEVENT
DTSTART;TZID=America/New_York:20180306T083000
DTEND;TZID=America/New_York:20180306T083000
DTSTAMP:20260425T080958
CREATED:20180301T182604Z
LAST-MODIFIED:20180301T182616Z
UID:2399-1520325000-1520325000@stmarys.k12.oh.us
SUMMARY:Spelling Bee Practice
DESCRIPTION:
URL:https://stmarys.k12.oh.us/event/spelling-bee-practice-12/
LOCATION:St. Mary Catholic School
CATEGORIES:School Calendar
END:VEVENT
BEGIN:VEVENT
DTSTART;TZID=America/New_York:20180306T080000
DTEND;TZID=America/New_York:20180306T080000
DTSTAMP:20260425T080958
CREATED:20180301T182525Z
LAST-MODIFIED:20180301T182525Z
UID:2398-1520323200-1520323200@stmarys.k12.oh.us
SUMMARY:Math Counts
DESCRIPTION:
URL:https://stmarys.k12.oh.us/event/math-counts-5/
LOCATION:St. Mary Catholic School
CATEGORIES:School Calendar
END:VEVENT
BEGIN:VEVENT
DTSTART;VALUE=DATE:20180305
DTEND;VALUE=DATE:20180310
DTSTAMP:20260425T080958
CREATED:20180301T182447Z
LAST-MODIFIED:20180301T182447Z
UID:2397-1520208000-1520639999@stmarys.k12.oh.us
SUMMARY:Spring Book Fair
DESCRIPTION:
URL:https://stmarys.k12.oh.us/event/spring-book-fair/
LOCATION:St. Mary Catholic School
CATEGORIES:School Calendar
END:VEVENT
BEGIN:VEVENT
DTSTART;TZID=America/New_York:20180302T080000
DTEND;TZID=America/New_York:20180302T080000
DTSTAMP:20260425T080958
CREATED:20180301T181841Z
LAST-MODIFIED:20180301T181841Z
UID:2389-1519977600-1519977600@stmarys.k12.oh.us
SUMMARY:Tournament of Truth Practice
DESCRIPTION:
URL:https://stmarys.k12.oh.us/event/tournament-truth-practice/
CATEGORIES:School Calendar
END:VEVENT
BEGIN:VEVENT
DTSTART;TZID=America/New_York:20180301T080000
DTEND;TZID=America/New_York:20180301T080000
DTSTAMP:20260425T080958
CREATED:20180301T181747Z
LAST-MODIFIED:20180301T181747Z
UID:2388-1519891200-1519891200@stmarys.k12.oh.us
SUMMARY:Power of the Pen
DESCRIPTION:
URL:https://stmarys.k12.oh.us/event/power-of-the-pen-17/
LOCATION:St. Mary Catholic School
CATEGORIES:School Calendar
END:VEVENT
BEGIN:VEVENT
DTSTART;TZID=America/New_York:20180227T091500
DTEND;TZID=America/New_York:20180227T091500
DTSTAMP:20260425T080958
CREATED:20180209T132213Z
LAST-MODIFIED:20180209T132213Z
UID:2376-1519722900-1519722900@stmarys.k12.oh.us
SUMMARY:3rd\, 4th\, & 5th Grade Confessions
DESCRIPTION:
URL:https://stmarys.k12.oh.us/event/3rd-4th-5th-grade-confessions/
CATEGORIES:School Calendar
END:VEVENT
END:VCALENDAR