BEGIN:VCALENDAR
VERSION:2.0
PRODID:-//St. Mary Catholic School - ECPv6.15.20//NONSGML v1.0//EN
CALSCALE:GREGORIAN
METHOD:PUBLISH
X-WR-CALNAME:St. Mary Catholic School
X-ORIGINAL-URL:https://stmarys.k12.oh.us
X-WR-CALDESC:Events for St. Mary Catholic School
REFRESH-INTERVAL;VALUE=DURATION:PT1H
X-Robots-Tag:noindex
X-PUBLISHED-TTL:PT1H
BEGIN:VTIMEZONE
TZID:America/New_York
BEGIN:DAYLIGHT
TZOFFSETFROM:-0500
TZOFFSETTO:-0400
TZNAME:EDT
DTSTART:20170312T070000
END:DAYLIGHT
BEGIN:STANDARD
TZOFFSETFROM:-0400
TZOFFSETTO:-0500
TZNAME:EST
DTSTART:20171105T060000
END:STANDARD
BEGIN:DAYLIGHT
TZOFFSETFROM:-0500
TZOFFSETTO:-0400
TZNAME:EDT
DTSTART:20180311T070000
END:DAYLIGHT
BEGIN:STANDARD
TZOFFSETFROM:-0400
TZOFFSETTO:-0500
TZNAME:EST
DTSTART:20181104T060000
END:STANDARD
BEGIN:DAYLIGHT
TZOFFSETFROM:-0500
TZOFFSETTO:-0400
TZNAME:EDT
DTSTART:20190310T070000
END:DAYLIGHT
BEGIN:STANDARD
TZOFFSETFROM:-0400
TZOFFSETTO:-0500
TZNAME:EST
DTSTART:20191103T060000
END:STANDARD
END:VTIMEZONE
BEGIN:VTIMEZONE
TZID:UTC
BEGIN:STANDARD
TZOFFSETFROM:+0000
TZOFFSETTO:+0000
TZNAME:UTC
DTSTART:20170101T000000
END:STANDARD
END:VTIMEZONE
BEGIN:VEVENT
DTSTART;VALUE=DATE:20180507
DTEND;VALUE=DATE:20180508
DTSTAMP:20260422T173520
CREATED:20180504T182602Z
LAST-MODIFIED:20180504T182602Z
UID:2564-1525651200-1525737599@stmarys.k12.oh.us
SUMMARY:Dress Down Day
DESCRIPTION:
URL:https://stmarys.k12.oh.us/event/dress-down-day-15/
LOCATION:St. Mary Catholic School
CATEGORIES:School Calendar
END:VEVENT
BEGIN:VEVENT
DTSTART;TZID=America/New_York:20180504T091500
DTEND;TZID=America/New_York:20180504T091500
DTSTAMP:20260422T173520
CREATED:20180504T182203Z
LAST-MODIFIED:20180504T182203Z
UID:2558-1525425300-1525425300@stmarys.k12.oh.us
SUMMARY:All School Mass
DESCRIPTION:
URL:https://stmarys.k12.oh.us/event/all-school-mass-15/
LOCATION:Gym
CATEGORIES:School Calendar
END:VEVENT
BEGIN:VEVENT
DTSTART;VALUE=DATE:20180504
DTEND;VALUE=DATE:20180505
DTSTAMP:20260422T173520
CREATED:20180504T182243Z
LAST-MODIFIED:20180504T182243Z
UID:2559-1525392000-1525478399@stmarys.k12.oh.us
SUMMARY:Environmental Program K–3
DESCRIPTION:
URL:https://stmarys.k12.oh.us/event/environmental-program-k-3/
CATEGORIES:School Calendar
END:VEVENT
BEGIN:VEVENT
DTSTART;TZID=America/New_York:20180503T190000
DTEND;TZID=America/New_York:20180503T190000
DTSTAMP:20260422T173520
CREATED:20180504T182022Z
LAST-MODIFIED:20180504T182022Z
UID:2556-1525374000-1525374000@stmarys.k12.oh.us
SUMMARY:First Holy Communion Retreat & Rehearsal
DESCRIPTION:
URL:https://stmarys.k12.oh.us/event/first-holy-communion-retreat-rehearsal/
LOCATION:Basilica Social Hall
CATEGORIES:School Calendar
END:VEVENT
BEGIN:VEVENT
DTSTART;VALUE=DATE:20180503
DTEND;VALUE=DATE:20180504
DTSTAMP:20260422T173520
CREATED:20180504T181924Z
LAST-MODIFIED:20180504T181924Z
UID:2555-1525305600-1525391999@stmarys.k12.oh.us
SUMMARY:K Class Mass
DESCRIPTION:
URL:https://stmarys.k12.oh.us/event/k-class-mass/
CATEGORIES:School Calendar
END:VEVENT
BEGIN:VEVENT
DTSTART;VALUE=DATE:20180502
DTEND;VALUE=DATE:20180503
DTSTAMP:20260422T173520
CREATED:20180504T181818Z
LAST-MODIFIED:20180504T181818Z
UID:2553-1525219200-1525305599@stmarys.k12.oh.us
SUMMARY:Spring Flower Sale Orders Due
DESCRIPTION:
URL:https://stmarys.k12.oh.us/event/spring-flower-sale-orders-due/
CATEGORIES:School Calendar
END:VEVENT
BEGIN:VEVENT
DTSTART;VALUE=DATE:20180502
DTEND;VALUE=DATE:20180503
DTSTAMP:20260422T173520
CREATED:20180504T181742Z
LAST-MODIFIED:20180504T181742Z
UID:2552-1525219200-1525305599@stmarys.k12.oh.us
SUMMARY:7th & 8th Grade Shadow Day
DESCRIPTION:
URL:https://stmarys.k12.oh.us/event/7th-8th-grade-shadow-day/
LOCATION:St. Mary Catholic School
CATEGORIES:School Calendar
END:VEVENT
BEGIN:VEVENT
DTSTART;TZID=America/New_York:20180501T080000
DTEND;TZID=America/New_York:20180501T163000
DTSTAMP:20260422T173520
CREATED:20180504T181657Z
LAST-MODIFIED:20180504T181657Z
UID:2551-1525161600-1525192200@stmarys.k12.oh.us
SUMMARY:Sending Mid-terms
DESCRIPTION:
URL:https://stmarys.k12.oh.us/event/sending-mid-terms/
LOCATION:St. Mary Catholic School
CATEGORIES:School Calendar
END:VEVENT
BEGIN:VEVENT
DTSTART;TZID=America/New_York:20180501T080000
DTEND;TZID=America/New_York:20180501T163000
DTSTAMP:20260422T173520
CREATED:20180504T181623Z
LAST-MODIFIED:20180504T181623Z
UID:2550-1525161600-1525192200@stmarys.k12.oh.us
SUMMARY:Math Counts
DESCRIPTION:
URL:https://stmarys.k12.oh.us/event/math-counts-10/
LOCATION:St. Mary Catholic School
CATEGORIES:School Calendar
END:VEVENT
BEGIN:VEVENT
DTSTART;TZID=America/New_York:20180429T140000
DTEND;TZID=America/New_York:20180429T140000
DTSTAMP:20260422T173520
CREATED:20180411T185319Z
LAST-MODIFIED:20180411T185319Z
UID:2529-1525010400-1525010400@stmarys.k12.oh.us
SUMMARY:Confirmation
DESCRIPTION:
URL:https://stmarys.k12.oh.us/event/confirmation/
CATEGORIES:School Calendar
END:VEVENT
BEGIN:VEVENT
DTSTART;TZID=America/New_York:20180428T090000
DTEND;TZID=America/New_York:20180428T090000
DTSTAMP:20260422T173520
CREATED:20180411T185230Z
LAST-MODIFIED:20180411T185230Z
UID:2528-1524906000-1524906000@stmarys.k12.oh.us
SUMMARY:Bike Path Clean Up School Service Project
DESCRIPTION:
URL:https://stmarys.k12.oh.us/event/bike-path-clean-up-school-service-project/
CATEGORIES:School Calendar
END:VEVENT
BEGIN:VEVENT
DTSTART;TZID=America/New_York:20180427T091500
DTEND;TZID=America/New_York:20180427T091500
DTSTAMP:20260422T173520
CREATED:20180411T185058Z
LAST-MODIFIED:20180411T185058Z
UID:2526-1524820500-1524820500@stmarys.k12.oh.us
SUMMARY:All School Mass
DESCRIPTION:
URL:https://stmarys.k12.oh.us/event/all-school-mass-14/
CATEGORIES:School Calendar
END:VEVENT
BEGIN:VEVENT
DTSTART;TZID=America/New_York:20180426T190000
DTEND;TZID=America/New_York:20180426T190000
DTSTAMP:20260422T173520
CREATED:20180411T184934Z
LAST-MODIFIED:20180411T184934Z
UID:2524-1524769200-1524769200@stmarys.k12.oh.us
SUMMARY:Mandatory Confirmation Practice
DESCRIPTION:
URL:https://stmarys.k12.oh.us/event/mandatory-confirmation-practice/
LOCATION:Basilica
CATEGORIES:School Calendar
END:VEVENT
BEGIN:VEVENT
DTSTART;TZID=America/New_York:20180426T080000
DTEND;TZID=America/New_York:20180426T080000
DTSTAMP:20260422T173520
CREATED:20180411T184757Z
LAST-MODIFIED:20180411T184757Z
UID:2522-1524729600-1524729600@stmarys.k12.oh.us
SUMMARY:Pen Ohio
DESCRIPTION:
URL:https://stmarys.k12.oh.us/event/pen-ohio-3/
CATEGORIES:School Calendar
END:VEVENT
BEGIN:VEVENT
DTSTART;VALUE=DATE:20180426
DTEND;VALUE=DATE:20180427
DTSTAMP:20260422T173520
CREATED:20180411T184842Z
LAST-MODIFIED:20180411T184842Z
UID:2523-1524700800-1524787199@stmarys.k12.oh.us
SUMMARY:St. Jude Trike-A-Thon Montessori
DESCRIPTION:
URL:https://stmarys.k12.oh.us/event/st-jude-trike-a-thon-montessori/
CATEGORIES:School Calendar
END:VEVENT
BEGIN:VEVENT
DTSTART;TZID=America/New_York:20180424T143000
DTEND;TZID=America/New_York:20180424T143000
DTSTAMP:20260422T173520
CREATED:20180411T184502Z
LAST-MODIFIED:20180411T184502Z
UID:2519-1524580200-1524580200@stmarys.k12.oh.us
SUMMARY:Norwegian Folk Group
DESCRIPTION:
URL:https://stmarys.k12.oh.us/event/norwegian-folk-group/
CATEGORIES:School Calendar
END:VEVENT
BEGIN:VEVENT
DTSTART;TZID=America/New_York:20180424T080000
DTEND;TZID=America/New_York:20180424T080000
DTSTAMP:20260422T173520
CREATED:20180411T184053Z
LAST-MODIFIED:20180411T184053Z
UID:2518-1524556800-1524556800@stmarys.k12.oh.us
SUMMARY:Math Counts
DESCRIPTION:
URL:https://stmarys.k12.oh.us/event/math-counts-9/
CATEGORIES:School Calendar
END:VEVENT
BEGIN:VEVENT
DTSTART;VALUE=DATE:20180423
DTEND;VALUE=DATE:20180424
DTSTAMP:20260422T173520
CREATED:20180411T183604Z
LAST-MODIFIED:20180411T183604Z
UID:2516-1524441600-1524527999@stmarys.k12.oh.us
SUMMARY:Dress Down Day
DESCRIPTION:
URL:https://stmarys.k12.oh.us/event/dress-down-day-14/
CATEGORIES:School Calendar
END:VEVENT
BEGIN:VEVENT
DTSTART;TZID=America/New_York:20180420T130000
DTEND;TZID=America/New_York:20180420T150000
DTSTAMP:20260422T173520
CREATED:20180411T183309Z
LAST-MODIFIED:20180411T183309Z
UID:2514-1524229200-1524236400@stmarys.k12.oh.us
SUMMARY:Skating Party/Movie P-K
DESCRIPTION:
URL:https://stmarys.k12.oh.us/event/skating-party-movie-p-k/
CATEGORIES:School Calendar
END:VEVENT
BEGIN:VEVENT
DTSTART;TZID=UTC:20180420T080000
DTEND;TZID=UTC:20180420T163000
DTSTAMP:20260422T173520
CREATED:20170806T222601Z
LAST-MODIFIED:20170806T222601Z
UID:954-1524211200-1524241800@stmarys.k12.oh.us
SUMMARY:Mid-term Reports
DESCRIPTION:
URL:https://stmarys.k12.oh.us/event/mid-term-reports-4/
LOCATION:St. Mary Catholic School
CATEGORIES:School Calendar
END:VEVENT
BEGIN:VEVENT
DTSTART;VALUE=DATE:20180420
DTEND;VALUE=DATE:20180421
DTSTAMP:20260422T173520
CREATED:20180411T183209Z
LAST-MODIFIED:20180411T183209Z
UID:2513-1524182400-1524268799@stmarys.k12.oh.us
SUMMARY:Non Uniform Day
DESCRIPTION:
URL:https://stmarys.k12.oh.us/event/non-uniform-day/
CATEGORIES:School Calendar
END:VEVENT
BEGIN:VEVENT
DTSTART;VALUE=DATE:20180420
DTEND;VALUE=DATE:20180421
DTSTAMP:20260422T173520
CREATED:20180411T183134Z
LAST-MODIFIED:20180411T183134Z
UID:2512-1524182400-1524268799@stmarys.k12.oh.us
SUMMARY:Celebrate Students
DESCRIPTION:
URL:https://stmarys.k12.oh.us/event/celebrate-students/
CATEGORIES:School Calendar
END:VEVENT
BEGIN:VEVENT
DTSTART;TZID=America/New_York:20180419T144500
DTEND;TZID=America/New_York:20180419T144500
DTSTAMP:20260422T173520
CREATED:20180411T183107Z
LAST-MODIFIED:20180411T183107Z
UID:2511-1524149100-1524149100@stmarys.k12.oh.us
SUMMARY:All School Rosary
DESCRIPTION:
URL:https://stmarys.k12.oh.us/event/all-school-rosary/
CATEGORIES:School Calendar
END:VEVENT
BEGIN:VEVENT
DTSTART;TZID=America/New_York:20180419T090000
DTEND;TZID=America/New_York:20180419T090000
DTSTAMP:20260422T173520
CREATED:20180411T183027Z
LAST-MODIFIED:20180411T183027Z
UID:2510-1524128400-1524128400@stmarys.k12.oh.us
SUMMARY:Volunteer Recognition Breakfast
DESCRIPTION:
URL:https://stmarys.k12.oh.us/event/volunteer-recognition-breakfast/
CATEGORIES:School Calendar
END:VEVENT
BEGIN:VEVENT
DTSTART;TZID=America/New_York:20180419T080000
DTEND;TZID=America/New_York:20180419T080000
DTSTAMP:20260422T173520
CREATED:20180411T182846Z
LAST-MODIFIED:20180411T182846Z
UID:2508-1524124800-1524124800@stmarys.k12.oh.us
SUMMARY:Pen Ohio
DESCRIPTION:
URL:https://stmarys.k12.oh.us/event/pen-ohio-2/
CATEGORIES:School Calendar
END:VEVENT
BEGIN:VEVENT
DTSTART;VALUE=DATE:20180419
DTEND;VALUE=DATE:20180420
DTSTAMP:20260422T173520
CREATED:20180411T182927Z
LAST-MODIFIED:20180411T182927Z
UID:2509-1524096000-1524182399@stmarys.k12.oh.us
SUMMARY:Pray for Vocations/Volunteer Recognition Day
DESCRIPTION:
URL:https://stmarys.k12.oh.us/event/pray-for-vocations-volunteer-recognition-day/
CATEGORIES:School Calendar
END:VEVENT
BEGIN:VEVENT
DTSTART;TZID=America/New_York:20180418T113000
DTEND;TZID=America/New_York:20180418T130000
DTSTAMP:20260422T173520
CREATED:20180411T182634Z
LAST-MODIFIED:20180411T182634Z
UID:2506-1524051000-1524056400@stmarys.k12.oh.us
SUMMARY:Catholic Schools Week Pasta Lunch sponsored by Home and School
DESCRIPTION:
URL:https://stmarys.k12.oh.us/event/catholic-schools-week-pasta-lunch-sponsored-by-home-and-school/
CATEGORIES:School Calendar
END:VEVENT
BEGIN:VEVENT
DTSTART;VALUE=DATE:20180418
DTEND;VALUE=DATE:20180419
DTSTAMP:20260422T173520
CREATED:20180411T182528Z
LAST-MODIFIED:20180411T182528Z
UID:2505-1524009600-1524095999@stmarys.k12.oh.us
SUMMARY:Celebrate Community
DESCRIPTION:
URL:https://stmarys.k12.oh.us/event/celebrate-community/
CATEGORIES:School Calendar
END:VEVENT
BEGIN:VEVENT
DTSTART;TZID=America/New_York:20180417T120500
DTEND;TZID=America/New_York:20180417T120500
DTSTAMP:20260422T173520
CREATED:20180411T182320Z
LAST-MODIFIED:20180411T182339Z
UID:2502-1523966700-1523966700@stmarys.k12.oh.us
SUMMARY:CSW All School Mass with St. John Central - Mass attire required
DESCRIPTION:
URL:https://stmarys.k12.oh.us/event/csw-all-school-mass-with-st-john-central/
CATEGORIES:School Calendar
END:VEVENT
BEGIN:VEVENT
DTSTART;VALUE=DATE:20180417
DTEND;VALUE=DATE:20180418
DTSTAMP:20260422T173520
CREATED:20180411T182407Z
LAST-MODIFIED:20180411T182407Z
UID:2503-1523923200-1524009599@stmarys.k12.oh.us
SUMMARY:Bishop Monforton Visit
DESCRIPTION:
URL:https://stmarys.k12.oh.us/event/bishop-monforton-visit/
CATEGORIES:School Calendar
END:VEVENT
END:VCALENDAR