BEGIN:VCALENDAR
VERSION:2.0
PRODID:-//St. Mary Catholic School - ECPv6.15.20//NONSGML v1.0//EN
CALSCALE:GREGORIAN
METHOD:PUBLISH
X-ORIGINAL-URL:https://stmarys.k12.oh.us
X-WR-CALDESC:Events for St. Mary Catholic School
REFRESH-INTERVAL;VALUE=DURATION:PT1H
X-Robots-Tag:noindex
X-PUBLISHED-TTL:PT1H
BEGIN:VTIMEZONE
TZID:America/New_York
BEGIN:DAYLIGHT
TZOFFSETFROM:-0500
TZOFFSETTO:-0400
TZNAME:EDT
DTSTART:20160313T070000
END:DAYLIGHT
BEGIN:STANDARD
TZOFFSETFROM:-0400
TZOFFSETTO:-0500
TZNAME:EST
DTSTART:20161106T060000
END:STANDARD
BEGIN:DAYLIGHT
TZOFFSETFROM:-0500
TZOFFSETTO:-0400
TZNAME:EDT
DTSTART:20170312T070000
END:DAYLIGHT
BEGIN:STANDARD
TZOFFSETFROM:-0400
TZOFFSETTO:-0500
TZNAME:EST
DTSTART:20171105T060000
END:STANDARD
BEGIN:DAYLIGHT
TZOFFSETFROM:-0500
TZOFFSETTO:-0400
TZNAME:EDT
DTSTART:20180311T070000
END:DAYLIGHT
BEGIN:STANDARD
TZOFFSETFROM:-0400
TZOFFSETTO:-0500
TZNAME:EST
DTSTART:20181104T060000
END:STANDARD
END:VTIMEZONE
BEGIN:VTIMEZONE
TZID:UTC
BEGIN:STANDARD
TZOFFSETFROM:+0000
TZOFFSETTO:+0000
TZNAME:UTC
DTSTART:20160101T000000
END:STANDARD
END:VTIMEZONE
BEGIN:VEVENT
DTSTART;VALUE=DATE:20171218
DTEND;VALUE=DATE:20171219
DTSTAMP:20260425T195359
CREATED:20171205T025904Z
LAST-MODIFIED:20171205T025904Z
UID:2204-1513555200-1513641599@stmarys.k12.oh.us
SUMMARY:Spirit Week Hat of Favorite Sports Team Day
DESCRIPTION:Student Council Spirit Week  \n$1 each day to participate
URL:https://stmarys.k12.oh.us/event/spirit-week-hat-favorite-sports-team-day/
LOCATION:St. Mary Catholic School
CATEGORIES:School Calendar
END:VEVENT
BEGIN:VEVENT
DTSTART;TZID=America/New_York:20171214T080000
DTEND;TZID=America/New_York:20171214T080000
DTSTAMP:20260425T195359
CREATED:20171205T025438Z
LAST-MODIFIED:20171205T025438Z
UID:2200-1513238400-1513238400@stmarys.k12.oh.us
SUMMARY:Power of the Pen
DESCRIPTION:
URL:https://stmarys.k12.oh.us/event/power-of-the-pen-8/
LOCATION:St. Mary Catholic School
CATEGORIES:School Calendar
END:VEVENT
BEGIN:VEVENT
DTSTART;TZID=America/New_York:20171212T110000
DTEND;TZID=America/New_York:20171212T110000
DTSTAMP:20260425T195359
CREATED:20171205T025000Z
LAST-MODIFIED:20171205T025112Z
UID:2196-1513076400-1513076400@stmarys.k12.oh.us
SUMMARY:Our Lady of Guadalupe All School Mass
DESCRIPTION:Our Lady of Guadalupe All School Mass – Basilica  11:00 AM \nStudents and Staff will be served lunch following mass
URL:https://stmarys.k12.oh.us/event/lady-guadalupe-school-mass/
LOCATION:Basilica
CATEGORIES:School Calendar
END:VEVENT
BEGIN:VEVENT
DTSTART;TZID=America/New_York:20171212T083000
DTEND;TZID=America/New_York:20171212T083000
DTSTAMP:20260425T195359
CREATED:20171205T024838Z
LAST-MODIFIED:20171205T024838Z
UID:2195-1513067400-1513067400@stmarys.k12.oh.us
SUMMARY:Spelling Bee Practice
DESCRIPTION:
URL:https://stmarys.k12.oh.us/event/spelling-bee-practice-2/
LOCATION:St. Mary Catholic School
CATEGORIES:School Calendar
END:VEVENT
BEGIN:VEVENT
DTSTART;VALUE=DATE:20171212
DTEND;VALUE=DATE:20171213
DTSTAMP:20260425T195359
CREATED:20171205T025152Z
LAST-MODIFIED:20171205T025152Z
UID:2197-1513036800-1513123199@stmarys.k12.oh.us
SUMMARY:PreK-K “Manners Lunch”
DESCRIPTION:
URL:https://stmarys.k12.oh.us/event/prek-k-manners-lunch/
CATEGORIES:School Calendar
END:VEVENT
BEGIN:VEVENT
DTSTART;TZID=America/New_York:20171211T080000
DTEND;TZID=America/New_York:20171215T163000
DTSTAMP:20260425T195359
CREATED:20171205T024701Z
LAST-MODIFIED:20171205T024701Z
UID:2193-1512979200-1513355400@stmarys.k12.oh.us
SUMMARY:Student Council St. Vincent DePaul "Food Fight"
DESCRIPTION:Student Council St. Vincent DePaul “Food Fight” Food Drive w/ St. John GS\, December 11–15
URL:https://stmarys.k12.oh.us/event/student-council-st-vincent-depaul-food-fight/
CATEGORIES:School Calendar
END:VEVENT
BEGIN:VEVENT
DTSTART;TZID=America/New_York:20171211T080000
DTEND;TZID=America/New_York:20171211T163000
DTSTAMP:20260425T195359
CREATED:20171205T024749Z
LAST-MODIFIED:20171205T024749Z
UID:2194-1512979200-1513009800@stmarys.k12.oh.us
SUMMARY:Dress Down Day
DESCRIPTION:
URL:https://stmarys.k12.oh.us/event/dress-down-day-7/
LOCATION:St. Mary Catholic School
CATEGORIES:School Calendar
END:VEVENT
BEGIN:VEVENT
DTSTART;TZID=America/New_York:20171208T120500
DTEND;TZID=America/New_York:20171208T120500
DTSTAMP:20260425T195359
CREATED:20171205T024146Z
LAST-MODIFIED:20171205T024305Z
UID:2192-1512734700-1512734700@stmarys.k12.oh.us
SUMMARY:All School Mass
DESCRIPTION:All School Mass 12:05 PM @ the Basilica
URL:https://stmarys.k12.oh.us/event/all-school-mass-4/
LOCATION:Basilica
CATEGORIES:School Calendar
END:VEVENT
BEGIN:VEVENT
DTSTART;TZID=America/New_York:20171207T120500
DTEND;TZID=America/New_York:20171207T120500
DTSTAMP:20260425T195359
CREATED:20171205T023839Z
LAST-MODIFIED:20171205T023839Z
UID:2189-1512648300-1512648300@stmarys.k12.oh.us
SUMMARY:All School Mass
DESCRIPTION:All School Mass 12:05PM @ the Basilica \nProject St. Nick presentation after Mass
URL:https://stmarys.k12.oh.us/event/all-school-mass-3/
LOCATION:Basilica
CATEGORIES:School Calendar
END:VEVENT
BEGIN:VEVENT
DTSTART;TZID=America/New_York:20171207T080000
DTEND;TZID=America/New_York:20171207T080000
DTSTAMP:20260425T195359
CREATED:20171205T023716Z
LAST-MODIFIED:20171205T023716Z
UID:2188-1512633600-1512633600@stmarys.k12.oh.us
SUMMARY:Power of the Pen
DESCRIPTION:
URL:https://stmarys.k12.oh.us/event/power-of-the-pen-7/
LOCATION:St. Mary Catholic School
CATEGORIES:School Calendar
END:VEVENT
BEGIN:VEVENT
DTSTART;TZID=America/New_York:20171205T083000
DTEND;TZID=America/New_York:20171205T083000
DTSTAMP:20260425T195359
CREATED:20171205T023559Z
LAST-MODIFIED:20171205T023559Z
UID:2186-1512462600-1512462600@stmarys.k12.oh.us
SUMMARY:Spelling Bee Practice
DESCRIPTION:
URL:https://stmarys.k12.oh.us/event/spelling-bee-practice/
LOCATION:St. Mary Catholic School
CATEGORIES:School Calendar
END:VEVENT
BEGIN:VEVENT
DTSTART;TZID=America/New_York:20171204T080000
DTEND;TZID=America/New_York:20171205T163000
DTSTAMP:20260425T195359
CREATED:20171205T023334Z
LAST-MODIFIED:20171205T023334Z
UID:2185-1512374400-1512491400@stmarys.k12.oh.us
SUMMARY:Santa Shop
DESCRIPTION:
URL:https://stmarys.k12.oh.us/event/santa-shop/
LOCATION:St. Mary Catholic School
CATEGORIES:School Calendar
END:VEVENT
BEGIN:VEVENT
DTSTART;VALUE=DATE:20171129
DTEND;VALUE=DATE:20171130
DTSTAMP:20260425T195359
CREATED:20171108T131326Z
LAST-MODIFIED:20171108T131326Z
UID:2133-1511913600-1511999999@stmarys.k12.oh.us
SUMMARY:Poinsettia & Wreath Pickup
DESCRIPTION:
URL:https://stmarys.k12.oh.us/event/poinsettia-wreath-pickup/
LOCATION:Parish Center
CATEGORIES:School Calendar
END:VEVENT
BEGIN:VEVENT
DTSTART;TZID=America/New_York:20171127T120000
DTEND;TZID=America/New_York:20171127T120000
DTSTAMP:20260425T195359
CREATED:20171106T180830Z
LAST-MODIFIED:20171106T180830Z
UID:2122-1511784000-1511784000@stmarys.k12.oh.us
SUMMARY:Student Council
DESCRIPTION:
URL:https://stmarys.k12.oh.us/event/student-council-7/
LOCATION:St. Mary Catholic School
CATEGORIES:School Calendar
END:VEVENT
BEGIN:VEVENT
DTSTART;TZID=America/New_York:20171127T080000
DTEND;TZID=America/New_York:20171127T163000
DTSTAMP:20260425T195359
CREATED:20171106T180905Z
LAST-MODIFIED:20171106T180905Z
UID:2124-1511769600-1511800200@stmarys.k12.oh.us
SUMMARY:Dress Down Day
DESCRIPTION:
URL:https://stmarys.k12.oh.us/event/dress-down-day-6/
LOCATION:St. Mary Catholic School
CATEGORIES:School Calendar
END:VEVENT
BEGIN:VEVENT
DTSTART;TZID=UTC:20171127T080000
DTEND;TZID=UTC:20171127T163000
DTSTAMP:20260425T195359
CREATED:20170806T221134Z
LAST-MODIFIED:20170806T221134Z
UID:914-1511769600-1511800200@stmarys.k12.oh.us
SUMMARY:Classes Resume
DESCRIPTION:
URL:https://stmarys.k12.oh.us/event/classes-resume/
LOCATION:St. Mary Catholic School
CATEGORIES:School Calendar
END:VEVENT
BEGIN:VEVENT
DTSTART;TZID=UTC:20171122T080000
DTEND;TZID=UTC:20171124T163000
DTSTAMP:20260425T195359
CREATED:20170806T221055Z
LAST-MODIFIED:20170806T221055Z
UID:912-1511337600-1511541000@stmarys.k12.oh.us
SUMMARY:Thanksgiving Break Begins  (Nov. 22 - 24); School Closed
DESCRIPTION:
URL:https://stmarys.k12.oh.us/event/thanksgiving-break-begins-nov-22-24-school-closed/
LOCATION:St. Mary Catholic School
CATEGORIES:Holiday,School Calendar
END:VEVENT
BEGIN:VEVENT
DTSTART;TZID=America/New_York:20171121T091500
DTEND;TZID=America/New_York:20171121T091500
DTSTAMP:20260425T195359
CREATED:20171106T180624Z
LAST-MODIFIED:20171106T180624Z
UID:2120-1511255700-1511255700@stmarys.k12.oh.us
SUMMARY:All School Mass
DESCRIPTION:
URL:https://stmarys.k12.oh.us/event/all-school-mass-2/
LOCATION:Gym
CATEGORIES:School Calendar
END:VEVENT
BEGIN:VEVENT
DTSTART;TZID=America/New_York:20171117T131500
DTEND;TZID=America/New_York:20171117T131500
DTSTAMP:20260425T195359
CREATED:20171106T180259Z
LAST-MODIFIED:20171106T180259Z
UID:2115-1510924500-1510924500@stmarys.k12.oh.us
SUMMARY:Spelling Bee
DESCRIPTION:
URL:https://stmarys.k12.oh.us/event/spelling-bee/
LOCATION:New Gym
CATEGORIES:School Calendar
END:VEVENT
BEGIN:VEVENT
DTSTART;TZID=America/New_York:20171117T091500
DTEND;TZID=America/New_York:20171117T091500
DTSTAMP:20260425T195359
CREATED:20171106T180155Z
LAST-MODIFIED:20171106T180155Z
UID:2112-1510910100-1510910100@stmarys.k12.oh.us
SUMMARY:All School Mass
DESCRIPTION:
URL:https://stmarys.k12.oh.us/event/all-school-mass/
LOCATION:Gym
CATEGORIES:School Calendar
END:VEVENT
BEGIN:VEVENT
DTSTART;TZID=America/New_York:20171116T091500
DTEND;TZID=America/New_York:20171116T091500
DTSTAMP:20260425T195359
CREATED:20171106T175855Z
LAST-MODIFIED:20171108T130721Z
UID:2106-1510823700-1510823700@stmarys.k12.oh.us
SUMMARY:3rd\, 4th & 5th Confessions
DESCRIPTION:
URL:https://stmarys.k12.oh.us/event/3rd-4th-5th-confessions/
LOCATION:St. Mary Catholic School
CATEGORIES:School Calendar
END:VEVENT
BEGIN:VEVENT
DTSTART;TZID=America/New_York:20171116T080000
DTEND;TZID=America/New_York:20171116T080000
DTSTAMP:20260425T195359
CREATED:20171106T175758Z
LAST-MODIFIED:20171106T175758Z
UID:2104-1510819200-1510819200@stmarys.k12.oh.us
SUMMARY:Power of the Pen
DESCRIPTION:
URL:https://stmarys.k12.oh.us/event/power-of-the-pen-6/
LOCATION:St. Mary Catholic School
CATEGORIES:School Calendar
END:VEVENT
BEGIN:VEVENT
DTSTART;VALUE=DATE:20171116
DTEND;VALUE=DATE:20171117
DTSTAMP:20260425T195359
CREATED:20171106T175925Z
LAST-MODIFIED:20171106T175925Z
UID:2108-1510790400-1510876799@stmarys.k12.oh.us
SUMMARY:8th Grade Repertory Theatre
DESCRIPTION:
URL:https://stmarys.k12.oh.us/event/8th-grade-repertory-theatre/
CATEGORIES:School Calendar
END:VEVENT
BEGIN:VEVENT
DTSTART;TZID=America/New_York:20171115T091500
DTEND;TZID=America/New_York:20171115T091500
DTSTAMP:20260425T195359
CREATED:20171106T175423Z
LAST-MODIFIED:20171108T130805Z
UID:2100-1510737300-1510737300@stmarys.k12.oh.us
SUMMARY:6th\, 7th\, & 8th Confessions
DESCRIPTION:
URL:https://stmarys.k12.oh.us/event/6th-7th-8th-confessions/
LOCATION:St. Mary Catholic School
CATEGORIES:School Calendar
END:VEVENT
BEGIN:VEVENT
DTSTART;TZID=America/New_York:20171113T120000
DTEND;TZID=America/New_York:20171113T120000
DTSTAMP:20260425T195359
CREATED:20171106T171357Z
LAST-MODIFIED:20171106T171357Z
UID:2098-1510574400-1510574400@stmarys.k12.oh.us
SUMMARY:Student Council
DESCRIPTION:
URL:https://stmarys.k12.oh.us/event/student-council-6/
LOCATION:St. Mary Catholic School
CATEGORIES:School Calendar
END:VEVENT
BEGIN:VEVENT
DTSTART;TZID=America/New_York:20171113T080000
DTEND;TZID=America/New_York:20171113T163000
DTSTAMP:20260425T195359
CREATED:20171106T171314Z
LAST-MODIFIED:20171106T171314Z
UID:2096-1510560000-1510590600@stmarys.k12.oh.us
SUMMARY:Dress Down Day
DESCRIPTION:
URL:https://stmarys.k12.oh.us/event/dress-down-day-5/
LOCATION:St. Mary Catholic School
CATEGORIES:School Calendar
END:VEVENT
BEGIN:VEVENT
DTSTART;TZID=UTC:20171110T080000
DTEND;TZID=UTC:20171110T163000
DTSTAMP:20260425T195359
CREATED:20170806T221000Z
LAST-MODIFIED:20170806T221000Z
UID:910-1510300800-1510331400@stmarys.k12.oh.us
SUMMARY:Veterans Day - No School
DESCRIPTION:
URL:https://stmarys.k12.oh.us/event/veterans-day-no-school/
LOCATION:St. Mary Catholic School
CATEGORIES:Holiday,School Calendar
END:VEVENT
BEGIN:VEVENT
DTSTART;TZID=America/New_York:20171109T090000
DTEND;TZID=America/New_York:20171109T090000
DTSTAMP:20260425T195359
CREATED:20171106T170743Z
LAST-MODIFIED:20171106T170743Z
UID:2094-1510218000-1510218000@stmarys.k12.oh.us
SUMMARY:Class Mass 5th & 4th
DESCRIPTION:
URL:https://stmarys.k12.oh.us/event/class-mass-5th-4th/
LOCATION:St. Mary Catholic School
CATEGORIES:School Calendar
END:VEVENT
BEGIN:VEVENT
DTSTART;TZID=UTC:20171109T080000
DTEND;TZID=UTC:20171109T163000
DTSTAMP:20260425T195359
CREATED:20170806T220910Z
LAST-MODIFIED:20170806T220910Z
UID:908-1510214400-1510245000@stmarys.k12.oh.us
SUMMARY:Mid-term Reports
DESCRIPTION:
URL:https://stmarys.k12.oh.us/event/mid-term-reports-2/
LOCATION:St. Mary Catholic School
CATEGORIES:School Calendar
END:VEVENT
BEGIN:VEVENT
DTSTART;TZID=America/New_York:20171109T080000
DTEND;TZID=America/New_York:20171109T080000
DTSTAMP:20260425T195359
CREATED:20171106T170609Z
LAST-MODIFIED:20171106T170658Z
UID:2092-1510214400-1510214400@stmarys.k12.oh.us
SUMMARY:Power of the Pen
DESCRIPTION:
URL:https://stmarys.k12.oh.us/event/power-of-the-pen-5/
LOCATION:St. Mary Catholic School
CATEGORIES:School Calendar
END:VEVENT
END:VCALENDAR