BEGIN:VCALENDAR
VERSION:2.0
PRODID:-//St. Mary Catholic School - ECPv6.15.20//NONSGML v1.0//EN
CALSCALE:GREGORIAN
METHOD:PUBLISH
X-WR-CALNAME:St. Mary Catholic School
X-ORIGINAL-URL:https://stmarys.k12.oh.us
X-WR-CALDESC:Events for St. Mary Catholic School
REFRESH-INTERVAL;VALUE=DURATION:PT1H
X-Robots-Tag:noindex
X-PUBLISHED-TTL:PT1H
BEGIN:VTIMEZONE
TZID:America/New_York
BEGIN:DAYLIGHT
TZOFFSETFROM:-0500
TZOFFSETTO:-0400
TZNAME:EDT
DTSTART:20170312T070000
END:DAYLIGHT
BEGIN:STANDARD
TZOFFSETFROM:-0400
TZOFFSETTO:-0500
TZNAME:EST
DTSTART:20171105T060000
END:STANDARD
BEGIN:DAYLIGHT
TZOFFSETFROM:-0500
TZOFFSETTO:-0400
TZNAME:EDT
DTSTART:20180311T070000
END:DAYLIGHT
BEGIN:STANDARD
TZOFFSETFROM:-0400
TZOFFSETTO:-0500
TZNAME:EST
DTSTART:20181104T060000
END:STANDARD
BEGIN:DAYLIGHT
TZOFFSETFROM:-0500
TZOFFSETTO:-0400
TZNAME:EDT
DTSTART:20190310T070000
END:DAYLIGHT
BEGIN:STANDARD
TZOFFSETFROM:-0400
TZOFFSETTO:-0500
TZNAME:EST
DTSTART:20191103T060000
END:STANDARD
END:VTIMEZONE
BEGIN:VTIMEZONE
TZID:UTC
BEGIN:STANDARD
TZOFFSETFROM:+0000
TZOFFSETTO:+0000
TZNAME:UTC
DTSTART:20160101T000000
END:STANDARD
END:VTIMEZONE
BEGIN:VEVENT
DTSTART;TZID=America/New_York:20180226T091500
DTEND;TZID=America/New_York:20180226T091500
DTSTAMP:20260425T131730
CREATED:20180209T132130Z
LAST-MODIFIED:20180209T132130Z
UID:2375-1519636500-1519636500@stmarys.k12.oh.us
SUMMARY:6th\, 7th\, & 8th Grade Confessions
DESCRIPTION:
URL:https://stmarys.k12.oh.us/event/6th-7th-8th-grade-confessions/
CATEGORIES:School Calendar
END:VEVENT
BEGIN:VEVENT
DTSTART;TZID=UTC:20180219T080000
DTEND;TZID=UTC:20180219T163000
DTSTAMP:20260425T131730
CREATED:20170806T221901Z
LAST-MODIFIED:20170806T221901Z
UID:934-1519027200-1519057800@stmarys.k12.oh.us
SUMMARY:Presidents Day - No School
DESCRIPTION:
URL:https://stmarys.k12.oh.us/event/presidents-day-no-school/
LOCATION:St. Mary Catholic School
CATEGORIES:Holiday,School Calendar
END:VEVENT
BEGIN:VEVENT
DTSTART;TZID=UTC:20180215T160000
DTEND;TZID=UTC:20180215T194500
DTSTAMP:20260425T131730
CREATED:20170806T221832Z
LAST-MODIFIED:20180201T220438Z
UID:932-1518710400-1518723900@stmarys.k12.oh.us
SUMMARY:Parent / Student / Teacher Conferences
DESCRIPTION:
URL:https://stmarys.k12.oh.us/event/parentstudentteacher-conferences-3/
LOCATION:St. Mary Catholic School
CATEGORIES:School Calendar
END:VEVENT
BEGIN:VEVENT
DTSTART;TZID=UTC:20180213T160000
DTEND;TZID=UTC:20180213T194500
DTSTAMP:20260425T131730
CREATED:20170806T221749Z
LAST-MODIFIED:20180201T220336Z
UID:930-1518537600-1518551100@stmarys.k12.oh.us
SUMMARY:Parent / Student / Teacher Conferences
DESCRIPTION:
URL:https://stmarys.k12.oh.us/event/parentstudentteacher-conferences-2/
LOCATION:St. Mary Catholic School
CATEGORIES:School Calendar
END:VEVENT
BEGIN:VEVENT
DTSTART;TZID=UTC:20180209T080000
DTEND;TZID=UTC:20180209T163000
DTSTAMP:20260425T131730
CREATED:20170806T221717Z
LAST-MODIFIED:20170806T221717Z
UID:928-1518163200-1518193800@stmarys.k12.oh.us
SUMMARY:Mid-term Reports
DESCRIPTION:
URL:https://stmarys.k12.oh.us/event/mid-term-reports-3/
CATEGORIES:School Calendar
END:VEVENT
BEGIN:VEVENT
DTSTART;TZID=America/New_York:20180130T083000
DTEND;TZID=America/New_York:20180130T083000
DTSTAMP:20260425T131730
CREATED:20180112T210924Z
LAST-MODIFIED:20180112T210924Z
UID:2301-1517301000-1517301000@stmarys.k12.oh.us
SUMMARY:Spelling Bee Practice
DESCRIPTION:
URL:https://stmarys.k12.oh.us/event/spelling-bee-practice-7/
LOCATION:St. Mary Catholic School
CATEGORIES:School Calendar
END:VEVENT
BEGIN:VEVENT
DTSTART;VALUE=DATE:20180128
DTEND;VALUE=DATE:20180203
DTSTAMP:20260425T131730
CREATED:20180112T210847Z
LAST-MODIFIED:20180112T210847Z
UID:2300-1517097600-1517615999@stmarys.k12.oh.us
SUMMARY:National Catholic Schools Week
DESCRIPTION:
URL:https://stmarys.k12.oh.us/event/national-catholic-schools-week/
CATEGORIES:School Calendar
END:VEVENT
BEGIN:VEVENT
DTSTART;TZID=America/New_York:20180126T091500
DTEND;TZID=America/New_York:20180126T091500
DTSTAMP:20260425T131730
CREATED:20180112T210643Z
LAST-MODIFIED:20180112T210643Z
UID:2296-1516958100-1516958100@stmarys.k12.oh.us
SUMMARY:All School Mass
DESCRIPTION:
URL:https://stmarys.k12.oh.us/event/all-school-mass-6/
CATEGORIES:School Calendar
END:VEVENT
BEGIN:VEVENT
DTSTART;VALUE=DATE:20180126
DTEND;VALUE=DATE:20180127
DTSTAMP:20260425T131730
CREATED:20180112T210608Z
LAST-MODIFIED:20180112T210608Z
UID:2295-1516924800-1517011199@stmarys.k12.oh.us
SUMMARY:8th Grade visit to PCHS
DESCRIPTION:
URL:https://stmarys.k12.oh.us/event/8th-grade-visit-pchs/
CATEGORIES:School Calendar
END:VEVENT
BEGIN:VEVENT
DTSTART;TZID=America/New_York:20180125T190000
DTEND;TZID=America/New_York:20180125T190000
DTSTAMP:20260425T131730
CREATED:20180112T205537Z
LAST-MODIFIED:20180119T182607Z
UID:2275-1516906800-1516906800@stmarys.k12.oh.us
SUMMARY:First Reconciliation Parent Meeting
DESCRIPTION:
URL:https://stmarys.k12.oh.us/event/first-reconciliation-parent-meeting/
LOCATION:Basilica Social Hall
CATEGORIES:School Calendar
END:VEVENT
BEGIN:VEVENT
DTSTART;TZID=America/New_York:20180125T080000
DTEND;TZID=America/New_York:20180125T080000
DTSTAMP:20260425T131730
CREATED:20180112T210545Z
LAST-MODIFIED:20180112T210545Z
UID:2294-1516867200-1516867200@stmarys.k12.oh.us
SUMMARY:Power of the Pen
DESCRIPTION:
URL:https://stmarys.k12.oh.us/event/power-of-the-pen-12/
LOCATION:St. Mary Catholic School
CATEGORIES:School Calendar
END:VEVENT
BEGIN:VEVENT
DTSTART;TZID=America/New_York:20180124T091500
DTEND;TZID=America/New_York:20180124T091500
DTSTAMP:20260425T131730
CREATED:20180112T210439Z
LAST-MODIFIED:20180112T210439Z
UID:2291-1516785300-1516785300@stmarys.k12.oh.us
SUMMARY:3rd\, 4th & 5th Grade Confession
DESCRIPTION:
URL:https://stmarys.k12.oh.us/event/3rd-4th-5th-grade-confession/
CATEGORIES:School Calendar
END:VEVENT
BEGIN:VEVENT
DTSTART;TZID=America/New_York:20180123T091500
DTEND;TZID=America/New_York:20180123T091500
DTSTAMP:20260425T131730
CREATED:20180112T210331Z
LAST-MODIFIED:20180112T210331Z
UID:2289-1516698900-1516698900@stmarys.k12.oh.us
SUMMARY:6th\, 7th & 8th Grade Confession
DESCRIPTION:
URL:https://stmarys.k12.oh.us/event/6th-7th-8th-grade-confession/
CATEGORIES:School Calendar
END:VEVENT
BEGIN:VEVENT
DTSTART;TZID=America/New_York:20180123T083000
DTEND;TZID=America/New_York:20180123T083000
DTSTAMP:20260425T131730
CREATED:20180112T210247Z
LAST-MODIFIED:20180112T210247Z
UID:2288-1516696200-1516696200@stmarys.k12.oh.us
SUMMARY:Spelling Bee Practice
DESCRIPTION:
URL:https://stmarys.k12.oh.us/event/spelling-bee-practice-6/
LOCATION:St. Mary Catholic School
CATEGORIES:School Calendar
END:VEVENT
BEGIN:VEVENT
DTSTART;VALUE=DATE:20180122
DTEND;VALUE=DATE:20180123
DTSTAMP:20260425T131730
CREATED:20180112T210211Z
LAST-MODIFIED:20180112T210211Z
UID:2287-1516579200-1516665599@stmarys.k12.oh.us
SUMMARY:Dress Down Day
DESCRIPTION:
URL:https://stmarys.k12.oh.us/event/dress-down-day-9/
LOCATION:St. Mary Catholic School
CATEGORIES:School Calendar
END:VEVENT
BEGIN:VEVENT
DTSTART;TZID=America/New_York:20180119T090000
DTEND;TZID=America/New_York:20180119T090000
DTSTAMP:20260425T131730
CREATED:20180112T205818Z
LAST-MODIFIED:20180112T205818Z
UID:2281-1516352400-1516352400@stmarys.k12.oh.us
SUMMARY:4th & 5th Grade Class Mass
DESCRIPTION:
URL:https://stmarys.k12.oh.us/event/4th-5th-grade-class-mass-3/
CATEGORIES:School Calendar
END:VEVENT
BEGIN:VEVENT
DTSTART;TZID=America/New_York:20180118T090000
DTEND;TZID=America/New_York:20180118T090000
DTSTAMP:20260425T131730
CREATED:20180112T205716Z
LAST-MODIFIED:20180112T205716Z
UID:2279-1516266000-1516266000@stmarys.k12.oh.us
SUMMARY:6th & 2nd Grade Class Mass
DESCRIPTION:
URL:https://stmarys.k12.oh.us/event/6th-2nd-grade-class-mass-3/
CATEGORIES:School Calendar
END:VEVENT
BEGIN:VEVENT
DTSTART;TZID=America/New_York:20180118T080000
DTEND;TZID=America/New_York:20180118T080000
DTSTAMP:20260425T131730
CREATED:20180112T205645Z
LAST-MODIFIED:20180112T205645Z
UID:2278-1516262400-1516262400@stmarys.k12.oh.us
SUMMARY:Power of the Pen
DESCRIPTION:
URL:https://stmarys.k12.oh.us/event/power-of-the-pen-11/
LOCATION:St. Mary Catholic School
CATEGORIES:School Calendar
END:VEVENT
BEGIN:VEVENT
DTSTART;TZID=America/New_York:20180117T090000
DTEND;TZID=America/New_York:20180117T090000
DTSTAMP:20260425T131730
CREATED:20180112T205440Z
LAST-MODIFIED:20180112T205440Z
UID:2274-1516179600-1516179600@stmarys.k12.oh.us
SUMMARY:7th & 3rd Grade Class Mass
DESCRIPTION:
URL:https://stmarys.k12.oh.us/event/7th-3rd-grade-class-mass-3/
CATEGORIES:School Calendar
END:VEVENT
BEGIN:VEVENT
DTSTART;TZID=America/New_York:20180116T090000
DTEND;TZID=America/New_York:20180116T090000
DTSTAMP:20260425T131730
CREATED:20180112T205319Z
LAST-MODIFIED:20180112T205319Z
UID:2273-1516093200-1516093200@stmarys.k12.oh.us
SUMMARY:8th & 1st Grade Class Mass
DESCRIPTION:
URL:https://stmarys.k12.oh.us/event/8th-1st-grade-class-mass-3/
CATEGORIES:School Calendar
END:VEVENT
BEGIN:VEVENT
DTSTART;TZID=America/New_York:20180116T083000
DTEND;TZID=America/New_York:20180116T083000
DTSTAMP:20260425T131730
CREATED:20180112T205202Z
LAST-MODIFIED:20180112T205202Z
UID:2272-1516091400-1516091400@stmarys.k12.oh.us
SUMMARY:Spelling Bee Practice
DESCRIPTION:
URL:https://stmarys.k12.oh.us/event/spelling-bee-practice-5/
LOCATION:St. Mary Catholic School
CATEGORIES:School Calendar
END:VEVENT
BEGIN:VEVENT
DTSTART;TZID=UTC:20180115T080000
DTEND;TZID=UTC:20180115T163000
DTSTAMP:20260425T131730
CREATED:20170806T221535Z
LAST-MODIFIED:20170806T221535Z
UID:924-1516003200-1516033800@stmarys.k12.oh.us
SUMMARY:No School for Students - Martin Luther King Day
DESCRIPTION:
URL:https://stmarys.k12.oh.us/event/no-school-for-students-martin-luther-king-day/
LOCATION:St. Mary Catholic School
CATEGORIES:Holiday,School Calendar
END:VEVENT
BEGIN:VEVENT
DTSTART;VALUE=DATE:20180112
DTEND;VALUE=DATE:20180113
DTSTAMP:20260425T131730
CREATED:20180112T205018Z
LAST-MODIFIED:20180112T205018Z
UID:2269-1515715200-1515801599@stmarys.k12.oh.us
SUMMARY:Straight "A" Pizza Party
DESCRIPTION:
URL:https://stmarys.k12.oh.us/event/straight-pizza-party/
LOCATION:St. Mary Catholic School
CATEGORIES:School Calendar
END:VEVENT
BEGIN:VEVENT
DTSTART;TZID=America/New_York:20180111T080000
DTEND;TZID=America/New_York:20180111T080000
DTSTAMP:20260425T131730
CREATED:20180112T204915Z
LAST-MODIFIED:20180112T204915Z
UID:2267-1515657600-1515657600@stmarys.k12.oh.us
SUMMARY:Power of the Pen
DESCRIPTION:
URL:https://stmarys.k12.oh.us/event/power-of-the-pen-10/
LOCATION:St. Mary Catholic School
CATEGORIES:School Calendar
END:VEVENT
BEGIN:VEVENT
DTSTART;TZID=America/New_York:20180110T120500
DTEND;TZID=America/New_York:20180110T120500
DTSTAMP:20260425T131730
CREATED:20180112T204739Z
LAST-MODIFIED:20180112T204739Z
UID:2264-1515585900-1515585900@stmarys.k12.oh.us
SUMMARY:All School Mass
DESCRIPTION:
URL:https://stmarys.k12.oh.us/event/all-school-mass-5/
CATEGORIES:School Calendar
END:VEVENT
BEGIN:VEVENT
DTSTART;TZID=America/New_York:20180109T083000
DTEND;TZID=America/New_York:20180109T083000
DTSTAMP:20260425T131730
CREATED:20180112T204633Z
LAST-MODIFIED:20180112T204633Z
UID:2262-1515486600-1515486600@stmarys.k12.oh.us
SUMMARY:Spelling Bee Practice
DESCRIPTION:
URL:https://stmarys.k12.oh.us/event/spelling-bee-practice-4/
LOCATION:St. Mary Catholic School
CATEGORIES:School Calendar
END:VEVENT
BEGIN:VEVENT
DTSTART;TZID=America/New_York:20180108T080000
DTEND;TZID=America/New_York:20180108T163000
DTSTAMP:20260425T131730
CREATED:20180112T204553Z
LAST-MODIFIED:20180112T204553Z
UID:2261-1515398400-1515429000@stmarys.k12.oh.us
SUMMARY:Dress Down Day
DESCRIPTION:
URL:https://stmarys.k12.oh.us/event/dress-down-day-8/
LOCATION:St. Mary Catholic School
CATEGORIES:School Calendar
END:VEVENT
BEGIN:VEVENT
DTSTART;TZID=UTC:20180104T080000
DTEND;TZID=UTC:20180104T163000
DTSTAMP:20260425T131730
CREATED:20170806T221456Z
LAST-MODIFIED:20170806T221456Z
UID:922-1515052800-1515083400@stmarys.k12.oh.us
SUMMARY:Students return to school - Start 3rd Nine Weeks
DESCRIPTION:
URL:https://stmarys.k12.oh.us/event/students-return-to-school-start-3rd-nine-weeks/
LOCATION:St. Mary Catholic School
CATEGORIES:School Calendar
END:VEVENT
BEGIN:VEVENT
DTSTART;TZID=UTC:20180103T080000
DTEND;TZID=UTC:20180103T163000
DTSTAMP:20260425T131730
CREATED:20170806T221418Z
LAST-MODIFIED:20170806T221418Z
UID:920-1514966400-1514997000@stmarys.k12.oh.us
SUMMARY:No School for Students - Teacher Work Day
DESCRIPTION:
URL:https://stmarys.k12.oh.us/event/no-school-for-students-teacher-work-day/
LOCATION:St. Mary Catholic School
CATEGORIES:School Calendar
END:VEVENT
BEGIN:VEVENT
DTSTART;TZID=UTC:20171222T080000
DTEND;TZID=UTC:20180102T163000
DTSTAMP:20260425T131730
CREATED:20170806T221330Z
LAST-MODIFIED:20170806T221330Z
UID:918-1513929600-1514910600@stmarys.k12.oh.us
SUMMARY:Christmas Break Begins (Dec. 22 - January 2); School Closed
DESCRIPTION:
URL:https://stmarys.k12.oh.us/event/christmas-break-begins-dec-22-january-2-school-closed/
LOCATION:St. Mary Catholic School
CATEGORIES:Holiday,School Calendar
END:VEVENT
END:VCALENDAR